BEGIN:VCALENDAR
VERSION:2.0
PRODID:-//91.233.84.75//NONSGML kigkonsult.se iCalcreator 2.24//
CALSCALE:GREGORIAN
METHOD:PUBLISH
X-WR-TIMEZONE:Europe/Berlin
BEGIN:VTIMEZONE
TZID:Europe/Berlin
X-LIC-LOCATION:Europe/Berlin
BEGIN:STANDARD
DTSTART:19701025T030000
TZOFFSETFROM:+0200
TZOFFSETTO:+0100
TZNAME:CET
END:STANDARD
BEGIN:DAYLIGHT
DTSTART:19700329T020000
TZOFFSETFROM:+0100
TZOFFSETTO:+0200
TZNAME:CEST
END:DAYLIGHT
END:VTIMEZONE
BEGIN:VEVENT
UID:20260421T150020CEST-6320944b1b@91.233.84.75
DTSTAMP:20260421T130020Z
DESCRIPTION:Werke von Antonio Vivaldi und Johannes X. Schachtner\nStreichen
 semble Thalia\nRobert Schröter\, Cembalo\nSophia Schambeck\, Blockflöte\nI
 sabel Grübl\, Mezzosopran\nMusikalische Leitung: Johannes X. Schachtner\n(
 Bei Schlechtwetter: Pfarrsaal)
DTSTART:20240811T110000
DTEND:20240811T110000
GEO:+49.769453;+11.933461
LOCATION:Pfarrgarten Pressath\, Hauptstraße 9\, 92690 Pressath\, Deutschlan
 d
SUMMARY:Matinée: Klimakonzert! „Die vier Jahreszeiten – durcheinander“
URL:https://www.youngartistsbayreuth.de/de/veranstaltung/matin%C3%A9e-klima
 konzert-die-vier-jahreszeiten-11-08-2024-11-00.html
X-APPLE-STRUCTURED-LOCATION;VALUE=URI;X-ADDRESS="Hauptstraße 9, Pressath, 9
 2690, Deutschland";X-APPLE-RADIUS=100;X-TITLE="Matinée: Klimakonzert! „Die
  vier Jahreszeiten – durcheinander“":GEO:49.7694535\,11.9334612
END:VEVENT
END:VCALENDAR
