BEGIN:VCALENDAR
VERSION:2.0
PRODID:-//91.233.84.75//NONSGML kigkonsult.se iCalcreator 2.24//
CALSCALE:GREGORIAN
METHOD:PUBLISH
X-WR-TIMEZONE:Europe/Berlin
BEGIN:VTIMEZONE
TZID:Europe/Berlin
X-LIC-LOCATION:Europe/Berlin
BEGIN:STANDARD
DTSTART:19701025T030000
TZOFFSETFROM:+0200
TZOFFSETTO:+0100
TZNAME:CET
END:STANDARD
BEGIN:DAYLIGHT
DTSTART:19700329T020000
TZOFFSETFROM:+0100
TZOFFSETTO:+0200
TZNAME:CEST
END:DAYLIGHT
END:VTIMEZONE
BEGIN:VEVENT
UID:20260421T164957CEST-437616c7c5@91.233.84.75
DTSTAMP:20260421T144957Z
DESCRIPTION:Rachael Joyce\, Sopran\nEsther Gresswell\, Mezzosopran\nLucca V
 erdi Pires\, Klavier
DTSTART:20240805T110000
DTEND:20240805T110000
GEO:+49.94234;+11.573768
LOCATION:Steingraeber Haus\, Kammermusiksaal\, Friedrichstraße 2\, 95445 Ba
 yreuth\, Deutschland
SUMMARY:Matinée: Melodien im Wandel der Zeit - Von Barock bis Broadway
URL:https://www.youngartistsbayreuth.de/en/event/matin%C3%A9e-melodien-im-w
 andel-der-zeit-von-barock-bis-05-08-2024-11-00.html
X-APPLE-STRUCTURED-LOCATION;VALUE=URI;X-ADDRESS="Friedrichstraße 2, Bayreut
 h, 95445, Deutschland";X-APPLE-RADIUS=100;X-TITLE="Matinée: Melodien im Wa
 ndel der Zeit - Von Barock bis Broadway":GEO:49.9423403\,11.5737679
END:VEVENT
END:VCALENDAR
