BEGIN:VCALENDAR
VERSION:2.0
PRODID:-//91.233.84.75//NONSGML kigkonsult.se iCalcreator 2.24//
CALSCALE:GREGORIAN
METHOD:PUBLISH
X-WR-TIMEZONE:Europe/Berlin
BEGIN:VTIMEZONE
TZID:Europe/Berlin
X-LIC-LOCATION:Europe/Berlin
BEGIN:STANDARD
DTSTART:19701025T030000
TZOFFSETFROM:+0200
TZOFFSETTO:+0100
TZNAME:CET
END:STANDARD
BEGIN:DAYLIGHT
DTSTART:19700329T020000
TZOFFSETFROM:+0100
TZOFFSETTO:+0200
TZNAME:CEST
END:DAYLIGHT
END:VTIMEZONE
BEGIN:VEVENT
UID:20260421T163825CEST-4855c24a77@91.233.84.75
DTSTAMP:20260421T143825Z
DESCRIPTION:Resonanzen: Rumänien in Bayreuth beim Festival junger Künstler.
  „Mehr als zwei Rhapsodien.“ – George Enescu. Leben und Werk.\nVortrag von
  Kultur-Publizist Dr. Frank Piontek im Rahmen des 75. Festival junger Küns
 tler Bayreuth. \n \n 
DTSTART:20250808T110000
DTEND:20250808T110000
GEO:+49.94286;+11.5876
LOCATION:DAS ZENTRUM\, Kultursalon\, Äußere Badstraße 7a\, 95448 Bayreuth\,
  Deutschland
SUMMARY:„Mehr als zwei Rhapsodien.“ - Matinee
URL:https://www.youngartistsbayreuth.de/en/event/mehr-als-zwei-rhapsodien-m
 atinee-21-07-2025-16-56.html
X-APPLE-STRUCTURED-LOCATION;VALUE=URI;X-ADDRESS="Äußere Badstraße 7a, Bayre
 uth, 95448, Deutschland";X-APPLE-RADIUS=100;X-TITLE=„Mehr als zwei Rhapsod
 ien.“ - Matinee:GEO:49.94286\,11.5876
END:VEVENT
END:VCALENDAR
