BEGIN:VCALENDAR
VERSION:2.0
PRODID:-//91.233.84.75//NONSGML kigkonsult.se iCalcreator 2.24//
CALSCALE:GREGORIAN
METHOD:PUBLISH
X-WR-TIMEZONE:Europe/Berlin
BEGIN:VTIMEZONE
TZID:Europe/Berlin
X-LIC-LOCATION:Europe/Berlin
BEGIN:STANDARD
DTSTART:19701025T030000
TZOFFSETFROM:+0200
TZOFFSETTO:+0100
TZNAME:CET
END:STANDARD
BEGIN:DAYLIGHT
DTSTART:19700329T020000
TZOFFSETFROM:+0100
TZOFFSETTO:+0200
TZNAME:CEST
END:DAYLIGHT
END:VTIMEZONE
BEGIN:VEVENT
UID:20260421T165055CEST-376062e096@91.233.84.75
DTSTAMP:20260421T145055Z
DESCRIPTION:Festliche Sommermusiken für Streichen mit Solist:innen des Juge
 ndsinfonieorchesters der Ukraine im Rahmen des 73. Festival junger Künstle
 r Bayreuth
DTSTART:20230712T193000
DTEND:20230712T193000
GEO:+49.888108;+11.449691
LOCATION:Evangelische Kirche St. Bartholomäus\, Schlossstraße 7\, 95496 Gla
 shütten\, Deutschland
SUMMARY:„Mit allen Musiken soll Gott geehrt und die Menschen erfreut werden
 …“
URL:https://www.youngartistsbayreuth.de/en/event/mit-allen-musiken-soll-got
 t-geehrt-und-die-menschen-erfreut-12-07-2023-19-30.html
X-APPLE-STRUCTURED-LOCATION;VALUE=URI;X-ADDRESS="Schlossstraße 7, Glashütte
 n, 95496, Deutschland";X-APPLE-RADIUS=100;X-TITLE=„Mit allen Musiken soll 
 Gott geehrt und die Menschen erfreut werden…“:GEO:49.8881078\,11.4496911
END:VEVENT
END:VCALENDAR
