BEGIN:VCALENDAR
VERSION:2.0
PRODID:-//91.233.84.75//NONSGML kigkonsult.se iCalcreator 2.24//
CALSCALE:GREGORIAN
METHOD:PUBLISH
X-WR-TIMEZONE:Europe/Berlin
BEGIN:VTIMEZONE
TZID:Europe/Berlin
X-LIC-LOCATION:Europe/Berlin
BEGIN:STANDARD
DTSTART:19701025T030000
TZOFFSETFROM:+0200
TZOFFSETTO:+0100
TZNAME:CET
END:STANDARD
BEGIN:DAYLIGHT
DTSTART:19700329T020000
TZOFFSETFROM:+0100
TZOFFSETTO:+0200
TZNAME:CEST
END:DAYLIGHT
END:VTIMEZONE
BEGIN:VEVENT
UID:20260421T145956CEST-03240fd9c5@91.233.84.75
DTSTAMP:20260421T125956Z
DESCRIPTION:Liebe Freunde und Förderer des Festival junger Künstler Bayreut
 h\,vor Kurzem luden wir Sie schriftlich ein zu unserer Mitgliederversammlu
 ng der Förderer junger Künstler Bayreuth am 13. Dezember 2021.Zwischenzeit
 lich verschärften sich die Sieben-Tage-Inzidenzen und Fallzahlen der Covid
  19 Pandemie und die hochansteckende Omikron-Variante breitet sich rasch a
 us. Deshalb haben wir uns nach reiflicher Überlegung\, auch aus Verantwort
 ung gegenüber unseren Mitgliedern\, dazu entschlossen\, die Mitgliedervers
 ammlung schweren Herzens abzusagen und hoffen dabei auf Ihr Verständnis. S
 obald die Situation es zulässt\, werden wir die Mitgliederversammlung in 2
 022 nachholen. Nun wünschen wir Ihnen trotz aller Unwägbarkeiten eine frie
 dvolle Adventszeit und ein frohes Weihnachtsfest im Kreise Ihrer Familien.
  Kommen Sie gut in ein erfolgreiches und glückliches neues Jahr 2022\, das
  hoffentlich für uns alle etwas mehr Normalität bringt und bleiben Sie vor
  allem gesund. Wir freuen uns auf Sie im neuen Jahr. Mit dankbaren GrüßenI
 hr Horst Auernheimer\nFörderer junger Künstler BayreuthVorstandsvorsitzend
 er\nÄußere Badstraße 7a95448 BayreuthTel. 0921 9800444Fax 0921 9800449E-Ma
 il: foerderer@youngartistsbayreuth.deWelcome: www.foerdereryoungartistsbay
 reuth.com
DTSTART;VALUE=DATE:20211213
DTEND;VALUE=DATE:20211214
GEO:+49.94286;+11.5876
LOCATION:DAS ZENTRUM\, Europasaal\, Äußere Badstraße 7a\, 95448 Bayreuth\, 
 Deutschland
SUMMARY:Mitgliederversammlung der Förderer junger Künstler Bayreuth schwere
 n Herzens abgesagt!
URL:https://www.youngartistsbayreuth.de/de/veranstaltung/mitgliederversamml
 ung-der-f%C3%B6rderer-junger-k%C3%BCnstler-bayreuth-13-12-2021.html
X-APPLE-STRUCTURED-LOCATION;VALUE=URI;X-ADDRESS="Äußere Badstraße 7a, Bayre
 uth, 95448, Deutschland";X-APPLE-RADIUS=100;X-TITLE=Mitgliederversammlung 
 der Förderer junger Künstler Bayreuth schweren Herzens abgesagt!:GEO:49.94
 286\,11.5876
END:VEVENT
END:VCALENDAR
