BEGIN:VCALENDAR
VERSION:2.0
PRODID:-//91.233.84.75//NONSGML kigkonsult.se iCalcreator 2.24//
CALSCALE:GREGORIAN
METHOD:PUBLISH
X-WR-TIMEZONE:Europe/Berlin
BEGIN:VTIMEZONE
TZID:Europe/Berlin
X-LIC-LOCATION:Europe/Berlin
BEGIN:STANDARD
DTSTART:19701025T030000
TZOFFSETFROM:+0200
TZOFFSETTO:+0100
TZNAME:CET
END:STANDARD
BEGIN:DAYLIGHT
DTSTART:19700329T020000
TZOFFSETFROM:+0100
TZOFFSETTO:+0200
TZNAME:CEST
END:DAYLIGHT
END:VTIMEZONE
BEGIN:VEVENT
UID:20260421T163745CEST-69636a7dbd@91.233.84.75
DTSTAMP:20260421T143745Z
DESCRIPTION:Klaviertrio Zilia im Rahmen des 71. Festival junger Künstler Ba
 yreuth mit Werken von J. Brahms und R. Schumann
DTSTART:20210807T130000
DTEND:20210807T130000
GEO:+49.94234;+11.573768
LOCATION:Steingraeber Haus\, Kammermusiksaal\, Friedrichstraße 2\, 95445 Ba
 yreuth\, Deutschland
SUMMARY:Mittagskonzert: Große Romantik!
URL:https://www.youngartistsbayreuth.de/en/event/mittagskonzert-gro%C3%9Fe-
 romantik-07-08-2021-13-00.html
X-APPLE-STRUCTURED-LOCATION;VALUE=URI;X-ADDRESS="Friedrichstraße 2, Bayreut
 h, 95445, Deutschland";X-APPLE-RADIUS=100;X-TITLE="Mittagskonzert: Große R
 omantik!":GEO:49.9423403\,11.5737679
END:VEVENT
END:VCALENDAR
