BEGIN:VCALENDAR
VERSION:2.0
PRODID:-//91.233.84.75//NONSGML kigkonsult.se iCalcreator 2.24//
CALSCALE:GREGORIAN
METHOD:PUBLISH
X-WR-TIMEZONE:Europe/Berlin
BEGIN:VTIMEZONE
TZID:Europe/Berlin
X-LIC-LOCATION:Europe/Berlin
BEGIN:STANDARD
DTSTART:19701025T030000
TZOFFSETFROM:+0200
TZOFFSETTO:+0100
TZNAME:CET
END:STANDARD
BEGIN:DAYLIGHT
DTSTART:19700329T020000
TZOFFSETFROM:+0100
TZOFFSETTO:+0200
TZNAME:CEST
END:DAYLIGHT
END:VTIMEZONE
BEGIN:VEVENT
UID:20260421T163840CEST-0565aea67d@91.233.84.75
DTSTAMP:20260421T143840Z
DESCRIPTION:Ein festliches Konzert mit Werken von Alexandre Tansman\, Hanns
  Eisler und Rudolf Karel.\nDas 73. Festival junger Künstler Bayreuth in Ko
 operation mit Forum Voix Étouffées\nMusikalische Leitung: Antonin Rey\n \n
 Programm:Alexandre Tansman: (1897-1986): SeptuorHanns Eisler (1898-1962): 
 Septuor Nr. 2 “Le Cirque”Rudolf Karel (1880-1945): Nonet\n \nDas 2002 vom 
 Dirigenten Amaury du Closel gegründete Forum Voix Étouffées ist eine der f
 ührenden Organisationen\, die sich der Erforschung und Verbreitung der Wer
 ke von Komponisten widmet\, die von europäischen totalitären Regimen\, ins
 besondere dem Nationalsozialismus\, verboten\, unterdrückt und ermordet wu
 rden. Das Forum sieht in der Musik ein wirksames Instrument\, um die Gesch
 ichte und die Folgen totalitärer Regime einem breiten Publikum zu vermitte
 ln. Der Aktionsradius des Forums ist offen für verwandte Themen\, insbeson
 dere durch die internationalen Konferenzen\, die es unter Beteiligung von 
 Historikern\, Politologen\, Philosophen und Musikwissenschaftlern organisi
 ert. Das Forum Voix Étouffées hat seinen Sitz in Straßburg und ist ein ane
 rkannter Partner zahlreicher Gedenk- und Musikorganisationen in Europa. Se
 it 2017 ist das Forum Voix Étouffées mit dem Orchestre Les Métamorphoses v
 erbunden\, mit dem es dieses Repertoire einem großen Publikum in Europa na
 hebringt.\nDie Rehabilitierung dieser Komponisten steckt jedoch noch in de
 n Kinderschuhen.Ihnen wieder eine Stimme zu geben\, erfordert eine intensi
 ve Anstrengung der Wiederentdeckung und Verbreitung\, der Identifizierung 
 (wer sind sie?) und der Bewertung (was sind ihre Werke wert?): jenseits de
 r Bedingungen ihres Verschwindens - so schrecklich sie auch gewesen sein m
 ögen - ist die Erinnerungsarbeit nur dann sinnvoll\, wenn sie das Auftauch
 en von Komponisten aus der Vergessenheit ermöglicht\, deren schöpferische 
 Universalität sie - wären die Umstände nicht gewesen - im Zentrum des Welt
 musiklebens hätte halten müssen.\nIhnen gerecht zu werden\, ist das Ziel d
 es Forum Voix Étouffées\, das 2002 von dem Dirigenten und Komponisten Amau
 ry du Closel gegründet wurde. Das seit 2012 in Straßburg ansässige Forum V
 oix Étouffées hat bereits über 200 Veranstaltungen (Konzerte\, Konferenzen
 \, Diskussionsrunden\, Workshops zur Kulturvermittlung) organisiert.\n \n
 \n \nVorstellung des europäischen Projekts ''Musik\, Krieg und Frieden in 
 Europa: 1922-2022' des FVE:\nIn der europäischen Kultur spielte die Musik 
 im 20. Jahrhundert eine doppelte politische Rolle: zum einen war sie Zeuge
  der Umwälzungen der totalitären Regime\, die den Kontinent quälten - und 
 insbesondere des Holocausts\, daher dieses Gedenkkonzert -\, zum anderen w
 ar sie ein Instrument des Widerstands gegen diese Regime und begleitete vo
 r allem den Übergang bestimmter Nationen zur Unabhängigkeit und Demokratie
 .\nDer Krieg ist eines der Hauptthemen der Musik des zwanzigsten Jahrhunde
 rts. Jahrhunderts. Vor dem Hintergrund der Invasion in der Ukraine will da
 s Projekt 'Musik\, Krieg und Frieden in Europa 1922-2022' an die katastrop
 halen Folgen der europäischen Totalitarismen als Anstifter von Kriegen und
  Völkermorden wie dem Holocaust erinnern und dem europäischen Publikum die
  Idee vermitteln\, dass der Frieden auf dem Kontinent nur auf der Grundlag
 e des freien Handels\, aber auch auf starken gemeinsamen Werten wie Demokr
 atie\, dem Kampf gegen Rassismus und Antisemitismus\, Freiheit und Einheit
  beruhen kann.\nDas Projekt ist länderübergreifend organisiert und bringt 
 27 Partner aus 15 EU-Mitgliedstaaten und 2 Nicht-EU-Ländern zusammen: Ukra
 ine und Bosnien-Herzegowina. Es arbeitet mit baltischen Museen und jüdisch
 en Gemeinden\, Gedenkmuseen\, Universitäten und zahlreichen Musikinstituti
 onen (Orchestern und Festivals) zusammen. Es wird über 5.000 europäische B
 ürger direkt und über 200.000 indirekt erreichen.
DTSTART:20230807T190000
DTEND:20230807T190000
GEO:+49.94286;+11.5876
LOCATION:DAS ZENTRUM\, Europasaal\, Äußere Badstraße 7a\, 95448 Bayreuth\, 
 Deutschland
SUMMARY:Musik! Krieg und Frieden in Europa.
URL:https://www.youngartistsbayreuth.de/en/event/musik-krieg-und-frieden-in
 -europa-07-08-2023-19-00.html
X-APPLE-STRUCTURED-LOCATION;VALUE=URI;X-ADDRESS="Äußere Badstraße 7a, Bayre
 uth, 95448, Deutschland";X-APPLE-RADIUS=100;X-TITLE=Musik! Krieg und Fried
 en in Europa.:GEO:49.94286\,11.5876
END:VEVENT
END:VCALENDAR
