BEGIN:VCALENDAR
VERSION:2.0
PRODID:-//91.233.84.75//NONSGML kigkonsult.se iCalcreator 2.24//
CALSCALE:GREGORIAN
METHOD:PUBLISH
X-WR-TIMEZONE:Europe/Berlin
BEGIN:VTIMEZONE
TZID:Europe/Berlin
X-LIC-LOCATION:Europe/Berlin
BEGIN:STANDARD
DTSTART:19701025T030000
TZOFFSETFROM:+0200
TZOFFSETTO:+0100
TZNAME:CET
END:STANDARD
BEGIN:DAYLIGHT
DTSTART:19700329T020000
TZOFFSETFROM:+0100
TZOFFSETTO:+0200
TZNAME:CEST
END:DAYLIGHT
END:VTIMEZONE
BEGIN:VEVENT
UID:20260421T162613CEST-4426c6dbc2@91.233.84.75
DTSTAMP:20260421T142613Z
DESCRIPTION:Heiteres Sommerkonzert\nSommermusiken für Streicher mit Solist:
 innen des Jugend-Symphonieorchesters der Ukraine im Rahmen des 73. Festiva
 l junger Künstler Bayreuth
DTSTART:20230711T160000
DTEND:20230711T160000
GEO:+49.967667;+11.585064
LOCATION:Klinik Hohe Warte\, Hohe Warte 8\, 95445 Bayreuth\, Deutschland
SUMMARY:Musik. Magie.
URL:https://www.youngartistsbayreuth.de/en/event/musik-magie-11-07-2023-16-
 00.html
X-APPLE-STRUCTURED-LOCATION;VALUE=URI;X-ADDRESS="Hohe Warte 8, Bayreuth, 95
 445, Deutschland";X-APPLE-RADIUS=100;X-TITLE=Musik. Magie.:GEO:49.9676675\
 ,11.5850642
END:VEVENT
END:VCALENDAR
