BEGIN:VCALENDAR
VERSION:2.0
PRODID:-//91.233.84.75//NONSGML kigkonsult.se iCalcreator 2.24//
CALSCALE:GREGORIAN
METHOD:PUBLISH
X-WR-TIMEZONE:Europe/Berlin
BEGIN:VTIMEZONE
TZID:Europe/Berlin
X-LIC-LOCATION:Europe/Berlin
BEGIN:STANDARD
DTSTART:19701025T030000
TZOFFSETFROM:+0200
TZOFFSETTO:+0100
TZNAME:CET
END:STANDARD
BEGIN:DAYLIGHT
DTSTART:19700329T020000
TZOFFSETFROM:+0100
TZOFFSETTO:+0200
TZNAME:CEST
END:DAYLIGHT
END:VTIMEZONE
BEGIN:VEVENT
UID:20260421T162612CEST-5764131245@91.233.84.75
DTSTAMP:20260421T142612Z
DESCRIPTION:Heiteres Sommerkonzert\nSommermusiken für Streicher mit Solist:
 innen des Jugendsinfonieorchesters der Ukraine im Rahmen des 73. Festival 
 junger Künstler Bayreuth
DTSTART:20230712T150000
DTEND:20230712T150000
GEO:+49.971017;+11.552454
LOCATION:Kulturscheune Cottenbach\, Cottenbach\, 95500 Heinersreuth\, Deuts
 chland
SUMMARY:Musik. Magie.
URL:https://www.youngartistsbayreuth.de/en/event/musik-magie-12-07-2023-15-
 00.html
X-APPLE-STRUCTURED-LOCATION;VALUE=URI;X-ADDRESS="Cottenbach, Heinersreuth, 
 95500, Deutschland";X-APPLE-RADIUS=100;X-TITLE=Musik. Magie.:GEO:49.971017
 27679339\,11.552453723242968
END:VEVENT
END:VCALENDAR
