BEGIN:VCALENDAR
VERSION:2.0
PRODID:-//91.233.84.75//NONSGML kigkonsult.se iCalcreator 2.24//
CALSCALE:GREGORIAN
METHOD:PUBLISH
X-WR-TIMEZONE:Europe/Berlin
BEGIN:VTIMEZONE
TZID:Europe/Berlin
X-LIC-LOCATION:Europe/Berlin
BEGIN:STANDARD
DTSTART:19701025T030000
TZOFFSETFROM:+0200
TZOFFSETTO:+0100
TZNAME:CET
END:STANDARD
BEGIN:DAYLIGHT
DTSTART:19700329T020000
TZOFFSETFROM:+0100
TZOFFSETTO:+0200
TZNAME:CEST
END:DAYLIGHT
END:VTIMEZONE
BEGIN:VEVENT
UID:20260421T162336CEST-052452dddb@91.233.84.75
DTSTAMP:20260421T142336Z
DESCRIPTION:Konzert u. a. mit Werken von J. Haydn und F. Chopin sowie der E
 nigma-Classica-Suite von E. Domenech (Uraufführung)\nEnsemble Enigma Class
 ica im Rahmen des 72. Festival junger Künstler Bayreuth\nDirigentin: Anna 
 Handler
DTSTART:20220812T190000
DTEND:20220812T190000
GEO:+49.94286;+11.5876
LOCATION:DAS ZENTRUM\, Europasaal\, Äußere Badstraße 7a\, 95448 Bayreuth\, 
 Deutschland
SUMMARY:Musikalische Urwesen. Eine Schöpfungsgeschichte - Uraufführung
URL:https://www.youngartistsbayreuth.de/de/veranstaltung/musikalische-urwes
 en-eine-sch%C3%B6pfungsgeschichte-12-08-2022-19-00.html
X-APPLE-STRUCTURED-LOCATION;VALUE=URI;X-ADDRESS="Äußere Badstraße 7a, Bayre
 uth, 95448, Deutschland";X-APPLE-RADIUS=100;X-TITLE=Musikalische Urwesen. 
 Eine Schöpfungsgeschichte - Uraufführung:GEO:49.94286\,11.5876
END:VEVENT
END:VCALENDAR
