BEGIN:VCALENDAR
VERSION:2.0
PRODID:-//91.233.84.75//NONSGML kigkonsult.se iCalcreator 2.24//
CALSCALE:GREGORIAN
METHOD:PUBLISH
X-WR-TIMEZONE:Europe/Berlin
BEGIN:VTIMEZONE
TZID:Europe/Berlin
X-LIC-LOCATION:Europe/Berlin
BEGIN:STANDARD
DTSTART:19701025T030000
TZOFFSETFROM:+0200
TZOFFSETTO:+0100
TZNAME:CET
END:STANDARD
BEGIN:DAYLIGHT
DTSTART:19700329T020000
TZOFFSETFROM:+0100
TZOFFSETTO:+0200
TZNAME:CEST
END:DAYLIGHT
END:VTIMEZONE
BEGIN:VEVENT
UID:20260421T164015CEST-5162dd5d97@91.233.84.75
DTSTAMP:20260421T144015Z
DESCRIPTION:mit Werken von Franz Schreker\, Hans Gal\, Mieczysław Weinberg
 \nDas Konzert ist den Komponisten gewidmet\, die Opfer der Totalitarismen 
 waren.Dazu wird in einem Round-Table-Gespräch „Musik\, Gedächtnis und euro
 päische Bürgerschaft“ thematisiert.\nI Solisti Aquilani im Rahmen des 72. 
 Festival junger Künstler Bayreuth\nMusikalische Leitung: Amaury du Closel
 \nWir danken für die Unterstützung durch das EU-Programm CERV (Citizens\, 
 Equality\, Rights and Values)
DTSTART:20220802T190000
DTEND:20220802T190000
GEO:+49.943155;+11.574541
LOCATION:Stadtkirche Heilig Dreifaltigkeit\, Kirchplatz 1\, 95444 Bayreuth\
 , Deutschland
SUMMARY:Musique et Mémoire - Ein festliches Konzert
URL:https://www.youngartistsbayreuth.de/en/event/musique-et-m%C3%A9moire-ei
 n-festliches-konzert-02-08-2022-19-00.html
X-APPLE-STRUCTURED-LOCATION;VALUE=URI;X-ADDRESS="Kirchplatz 1, Bayreuth, 95
 444, Deutschland";X-APPLE-RADIUS=100;X-TITLE=Musique et Mémoire - Ein fest
 liches Konzert:GEO:49.9431552\,11.5745409
END:VEVENT
END:VCALENDAR
