BEGIN:VCALENDAR
VERSION:2.0
PRODID:-//91.233.84.75//NONSGML kigkonsult.se iCalcreator 2.24//
CALSCALE:GREGORIAN
METHOD:PUBLISH
X-WR-TIMEZONE:Europe/Berlin
BEGIN:VTIMEZONE
TZID:Europe/Berlin
X-LIC-LOCATION:Europe/Berlin
BEGIN:STANDARD
DTSTART:19701025T030000
TZOFFSETFROM:+0200
TZOFFSETTO:+0100
TZNAME:CET
END:STANDARD
BEGIN:DAYLIGHT
DTSTART:19700329T020000
TZOFFSETFROM:+0100
TZOFFSETTO:+0200
TZNAME:CEST
END:DAYLIGHT
END:VTIMEZONE
BEGIN:VEVENT
UID:20260421T165119CEST-9801fb48b2@91.233.84.75
DTSTAMP:20260421T145119Z
DESCRIPTION:Ottavia Maria Maceratini\, Steingraeber Transducer Flügel\;Lail
 a Mahmoud\, Qanun\;Abdalhadi Deep\, Stimme & Oud\;Fadhel Boubaker\, Oud.\n
 Vladimir Ivanoff\, Perkussion & Musikalische Leitung
DTSTART:20200802T190000
DTEND:20200802T190000
GEO:+49.94286;+11.5876
LOCATION:DAS ZENTRUM\, Äußere Badstraße 7a\, 95448 Bayreuth\, Deutschland
SUMMARY:„Nacht auf Erden“ -  Romantische Klaviermusik und nahöstliche Impro
 visationen
URL:https://www.youngartistsbayreuth.de/en/event/nacht-auf-erden-romantisch
 e-klaviermusik-und-nah%C3%B6stliche-02-08-2020-20-00.html
X-APPLE-STRUCTURED-LOCATION;VALUE=URI;X-ADDRESS="Äußere Badstraße 7a, Bayre
 uth, 95448, Deutschland";X-APPLE-RADIUS=100;X-TITLE=„Nacht auf Erden“ -  R
 omantische Klaviermusik und nahöstliche Improvisationen:GEO:49.94286\,11.5
 876
END:VEVENT
END:VCALENDAR
