BEGIN:VCALENDAR
VERSION:2.0
PRODID:-//91.233.84.75//NONSGML kigkonsult.se iCalcreator 2.24//
CALSCALE:GREGORIAN
METHOD:PUBLISH
X-WR-TIMEZONE:Europe/Berlin
BEGIN:VTIMEZONE
TZID:Europe/Berlin
X-LIC-LOCATION:Europe/Berlin
BEGIN:STANDARD
DTSTART:19701025T030000
TZOFFSETFROM:+0200
TZOFFSETTO:+0100
TZNAME:CET
END:STANDARD
BEGIN:DAYLIGHT
DTSTART:19700329T020000
TZOFFSETFROM:+0100
TZOFFSETTO:+0200
TZNAME:CEST
END:DAYLIGHT
END:VTIMEZONE
BEGIN:VEVENT
UID:20260421T161736CEST-6431ffcb82@91.233.84.75
DTSTAMP:20260421T141736Z
DESCRIPTION:Konzert mit Werken von Genevieve Knoebel\nElektrische Geigen ne
 u erlebt!\nDie Erfindung der elektrischen Geige und die Verfeinerung der T
 echnologie\, die dahinter steht\, sind für die Welt der klassischen Musik 
 neu. In den letzten zehn Jahren haben viele Menschen auf der ganzen Welt d
 iese Instrumente gekauft\, um eine neue Klanglandschaft zu entdecken. Auch
  ich befand mich in der gleichen Situation und wollte Repertoire für diese
  neuen Instrumente spielen\, weil ich von den neuen Klangfarben und Stimmu
 ngen\, die sie erzeugen können\, fasziniert und begeistert war. Wie viele 
 andere habe ich jedoch festgestellt\, dass noch nicht viel für elektrische
  Instrumente geschrieben wurde\, insbesondere im Bereich der Kammermusik. 
 Deshalb habe ich mir vorgenommen\, das Repertoire zu erweitern und zu zeig
 en\, was diese Instrumente zu bieten haben.\nDie Möglichkeiten für elektri
 sche Streicher und Effektpedale sind immens. Es gibt so viel zu erforschen
  und so viel Neuland\, das noch nicht betreten wurde. Ich habe diese Reise
  mit Solowerken für 5-saitige und 6-saitige elektrische Instrumente begonn
 en und sie dann auf ein elektrisches Trio\, ein elektrisches Quartett und 
 andere kleine Ensembles aus Bläsern und Streichern erweitert. Für dieses s
 pezielle Projekt werde ich nur die elektrische Violine zusammen mit Looper
  und Harmoniepedalen einsetzen.\n \n \n \nGenevieve Knoebel ist eine junge
  amerikanische Komponistin melodiöser\, emotional fesselnder Kammermusik\,
  die die Verbindung traditioneller klassischer Musik mit zeitgenössischer 
 technologischer Innovation verbindet. Mithilfe einer Reihe von Pedalen wie
  „Whammy“\, „Delay“ und „Looper“ erschafft sie komplexe Klanglandschaften\
 , die sowohl die Komplexität als auch die Schönheit ihrer Werke widerspieg
 eln.Als Absolventin der University of Illinois in Bratschen- und Musikpäda
 gogik spielt Genevieve weiterhin eine führende Rolle im Programm für elekt
 rische Streichinstrumente dieser Institution und betreut und fördert die n
 ächste Generation von Interpreten und Schöpfern in diesem sich entwickelnd
 en Medium.Genevieves Musik spiegelt die Fülle an Einflüssen einer Kindheit
  in Chicago wider\, wo täglich Musiker aus allen Ländern der Erde zu hören
  sind und Stile schnell zu einer kosmopolitischen Einheit verschmelzen. Ge
 nevieves umfangreiche Erfahrung als Orchestermusikerin\, Solistin und Kamm
 ermusikerin sowie ihre Auftritte in Bluegrass\, Hip-Hop und verschiedenen 
 World- und Folk-Musikgruppen haben ihrer Musik Universalität und unmittelb
 are menschliche Anziehungskraft verliehen. Ihre Werke zeichnen sich durch 
 eine stilistische Bandbreite von Minimalismus bis Maximalismus und eine em
 otionale Kraft aus\, die das Publikum tief berührt. Ihr Einsatz neuer Tech
 nologien und ihre Rolle bei deren Entwicklung machten sie zu einer Spitzen
 komponistin\, die alte Traditionen und neue Innovationen\, städtische und 
 ländliche Musikwelten sowie zutiefst persönliche künstlerische Aussagen mi
 t intellektuellem und hoch strukturiertem Material verbindet.Genevieve hat
  in zahlreichen Bands gespielt und als Studiomusikerin gearbeitet\, insbes
 ondere auf dem Studioalbum „Yes\, Yes\, Yes“ von Elsinore aus dem Jahr 201
 0. Zu ihren jüngsten Projekten gehört The Maji Collective – eine Fusion au
 s Funk\, Soul und elektronischer Musik\, sowie ein Gemeinschaftsprojekt mi
 t der Regisseurin Carrie Graham\, in dem sie Genevieves Kompositionen stil
 isiert und die elektrische Geige durch die Erstellung von Inhalten zur Sch
 au gestellt haben.Zu den Hauptlehrern von Genevieve Knoebel gehören Rudolf
  Haken (Professor für Bratsche und elektrische Streichinstrumente an der U
 niversity of Illinois)\, Li Kuo Chang (stellvertretender Solobratscher des
  Chicago Symphony Orchestra und Professor für Bratsche an der Indiana Univ
 ersity) und Michael Strauss (Solobratscher der Indianapolis Symphony).Gene
 vieve lebt mit ihrem Ehemann\, dem Mathematiker Aaron Wittrig\, und ihren 
 beiden Kindern Lily und Walter in Urbana\, Illinois.\n \n \n \nCandice Del
 hez stammt aus einer Musikerfamilie und entdeckte daher schon früh die Wun
 der der Kammermusik. Ihr Urgroßvater\, der Komponist Raymond Micha\, gründ
 ete das Festival de Stavelot im Jahr 1957. Delhez begann im Alter von 8 Ja
 hren mit dem Geigenspiel\, und trotz tiefer klassischer Wurzeln kam Heavy 
 Metal in ihr Leben und wurde auch zu einem musikalischen Einfluss für ihr 
 Handwerk.Sie erwarb zwei Master-Abschlüsse in Violinspiel und Musikpädagog
 ik am Institut supérieur de Musique et de Pédagogie in Namur\, Belgien\, b
 ei Professor Marc Danel. Delhez hat an Kammermusik-Meisterkursen in Prag m
 it dem Zemlinsky-Quartett\, dem Global Strings Program am Berklee College 
 of Music in Boston\, Massachusetts\, und dem Mark Wood Rock Orchestra Fest
 ival in Kansas City\, Kansas\, teilgenommen.Neben ihrer Lehrtätigkeit spie
 lt sie im Streichorchester „Ellipse“\, dirigiert das Amateur-Streichorches
 ter „Accord'âmes“\, tourt mit ihrer keltischen Punkband Bugul Noz durch Be
 lgien und die Nachbarländer und ist Co-Leiterin von Evyka\, einem Duo für 
 epische Instrumentalmusik\, das Violine mit elektronischer Musik kombinier
 t.\n \nCaroline Adler absolvierte sowohl ihr künstlerisches als auch pädag
 ogisches Diplom in Gesang an der Hochschule für Musik und Theater in Münch
 en. Ihr umfangreiches Repertoire umfasst sowohl alte Musik bis hin zu Cros
 s Over Kompositionen und zeitgenössischer Musik\, Jazz\, Pop und Elektro. 
 Als Solistin war sie am Tiroler Landestheater\, Münchner Volkstheater und 
 Gärtnerplatztheater engagiert. Neben Live Konzerten arbeitet Caroline Adle
 r auch im Studio und hat bereits für verschiedene Kino- und Fernsehprodukt
 ionen den Gesangspart eingesungen. Zu ihren Referenzen gehören unter ander
 em Microsoft\, Walt Disney\, der ORF und der bayrische Rundfunk. Sie ist G
 ewinnerin des Deutschen Filmmusikpreis in der Kategorie „Best Song“.\n \nF
 lorian Moser (Violine) aus Salzburg\, studierte in Wien and Salzburg. In d
 en letzten Jahren konzentrierte er sich auf die Kammermusik\, wobei er sic
 h nicht nur aus das klassische Streichquartett beschränkte - Florian ist a
 uch ein gefragter Barockgeiger und interessiert sich für elektronische Mus
 ik\, wobei er die E-geige in seine Konzertätigkeit einbezieht.\n \nKamilė 
 Kubiliūtė (Violine) aus Litauen\, studierte in Wien und Salzburg. Kamilė i
 st langjährige Konzertmeisterin und Solistin der Philharmonie Salzburg\, S
 ie ist Expertin für zeitgenössische Musik und derzeit als gefragte Kammerm
 usikerin europaweit tätig.
DTSTART:20230818T190000
DTEND:20230818T190000
GEO:+49.94286;+11.5876
LOCATION:DAS ZENTRUM\, Kleinkunstbühne\, Äußere Badstraße 7a\, 95448 Bayreu
 th\, Deutschland
SUMMARY:New instruments. New music.
URL:https://www.youngartistsbayreuth.de/de/veranstaltung/new-instruments-ne
 w-music-18-08-2023-19-00.html
X-APPLE-STRUCTURED-LOCATION;VALUE=URI;X-ADDRESS="Äußere Badstraße 7a, Bayre
 uth, 95448, Deutschland";X-APPLE-RADIUS=100;X-TITLE=New instruments. New m
 usic.:GEO:49.94286\,11.5876
END:VEVENT
END:VCALENDAR
