BEGIN:VCALENDAR
VERSION:2.0
PRODID:-//91.233.84.75//NONSGML kigkonsult.se iCalcreator 2.24//
CALSCALE:GREGORIAN
METHOD:PUBLISH
X-WR-TIMEZONE:Europe/Berlin
BEGIN:VTIMEZONE
TZID:Europe/Berlin
X-LIC-LOCATION:Europe/Berlin
BEGIN:STANDARD
DTSTART:19701025T030000
TZOFFSETFROM:+0200
TZOFFSETTO:+0100
TZNAME:CET
END:STANDARD
BEGIN:DAYLIGHT
DTSTART:19700329T020000
TZOFFSETFROM:+0100
TZOFFSETTO:+0200
TZNAME:CEST
END:DAYLIGHT
END:VTIMEZONE
BEGIN:VEVENT
UID:20260421T164700CEST-8397b81867@91.233.84.75
DTSTAMP:20260421T144700Z
DESCRIPTION:Musikalische Gruppenimprovisation mit Picknick\nMusikalische Ge
 samtleitung: Maximilian PonaderIn Kooperation mit: ZEIT FÜR NEUE MUSIK BAY
 REUTH\nBeim Nysenfest kommt die Bayreuther Stadtgesellschaft aus aller Wel
 t\, zu einem gemeinsamen\, interaktiv-musikalischen Kulturerlebnis in dion
 ysischem Geist als Gesamtkunstwerk zusammen. Das Verbindende ist Programm:
  Profis musizieren mit Laien\, jeder kann sich mit Lust einbringen\, es gi
 bt keine Schwelle.
DTSTART:20240808T200000
DTEND:20240808T220000
GEO:+49.942099;+11.577003
LOCATION:Residenzplatz vor dem Neuen Schloss\, Ludwigstraße 21\, 95444 Bayr
 euth\, Deutschland
SUMMARY:Nysenfest
URL:https://www.youngartistsbayreuth.de/en/event/nysenfest-08-08-2024-20-00
 .html
X-APPLE-STRUCTURED-LOCATION;VALUE=URI;X-ADDRESS="Ludwigstraße 21, Bayreuth,
  95444, Deutschland";X-APPLE-RADIUS=100;X-TITLE=Nysenfest:GEO:49.942099\,1
 1.577003
END:VEVENT
END:VCALENDAR
