BEGIN:VCALENDAR
VERSION:2.0
PRODID:-//91.233.84.75//NONSGML kigkonsult.se iCalcreator 2.24//
CALSCALE:GREGORIAN
METHOD:PUBLISH
X-WR-TIMEZONE:Europe/Berlin
BEGIN:VTIMEZONE
TZID:Europe/Berlin
X-LIC-LOCATION:Europe/Berlin
BEGIN:STANDARD
DTSTART:19701025T030000
TZOFFSETFROM:+0200
TZOFFSETTO:+0100
TZNAME:CET
END:STANDARD
BEGIN:DAYLIGHT
DTSTART:19700329T020000
TZOFFSETFROM:+0100
TZOFFSETTO:+0200
TZNAME:CEST
END:DAYLIGHT
END:VTIMEZONE
BEGIN:VEVENT
UID:20260421T150014CEST-0974b649a4@91.233.84.75
DTSTAMP:20260421T130014Z
DESCRIPTION:Rotary Masterclass 2024 Bayreuth\nRachael Joyce\, Sopran\nEsthe
 r Gresswell\, Mezzosopran\nVeranstaltung des RC Bayreuth Eremitage und RC 
 Bayreuth
DTSTART:20240807T190000
DTEND:20240807T190000
GEO:+49.939609;+11.57211
LOCATION:Musikhochschule für evangelische Kirchenmusik\, Orgelsaal\, Wilhel
 minenstraße 9\, 95444 Bayreuth\, Deutschland
SUMMARY:Offene Unterrichtsstunde für Operngesang
URL:https://www.youngartistsbayreuth.de/de/veranstaltung/offene-unterrichts
 stunde-f%C3%BCr-operngesang-07-08-2024-19-00.html
X-APPLE-STRUCTURED-LOCATION;VALUE=URI;X-ADDRESS="Wilhelminenstraße 9, Bayre
 uth, 95444, Deutschland";X-APPLE-RADIUS=100;X-TITLE=Offene Unterrichtsstun
 de für Operngesang:GEO:49.9396086\,11.5721101
END:VEVENT
END:VCALENDAR
