BEGIN:VCALENDAR
VERSION:2.0
PRODID:-//91.233.84.75//NONSGML kigkonsult.se iCalcreator 2.24//
CALSCALE:GREGORIAN
METHOD:PUBLISH
X-WR-TIMEZONE:Europe/Berlin
BEGIN:VTIMEZONE
TZID:Europe/Berlin
X-LIC-LOCATION:Europe/Berlin
BEGIN:STANDARD
DTSTART:19701025T030000
TZOFFSETFROM:+0200
TZOFFSETTO:+0100
TZNAME:CET
END:STANDARD
BEGIN:DAYLIGHT
DTSTART:19700329T020000
TZOFFSETFROM:+0100
TZOFFSETTO:+0200
TZNAME:CEST
END:DAYLIGHT
END:VTIMEZONE
BEGIN:VEVENT
UID:20260421T150306CEST-387397cbb7@91.233.84.75
DTSTAMP:20260421T130306Z
DESCRIPTION:Werke von L. v. Beethoven\, O. Kyva\, B. Lytoschynsky\, A. Dvoř
 ák\nYouth Symphony Orchestra of Ukraine im Rahmen des 72. Festival junger 
 Künstler Bayreuth\nDirigentin: Oksana LynivSolistin: Nataliia Kukhar\, Mez
 zosopran
DTSTART:20220804T190000
DTEND:20220804T190000
GEO:+49.967792;+11.611876
LOCATION:Panzerhalle\, Logistikpark 7a\, 95448 Bayreuth\, Deutschland
SUMMARY:Orchesterkonzert
URL:https://www.youngartistsbayreuth.de/de/veranstaltung/orchesterkonzert-0
 4-08-2022-19-00.html
X-APPLE-STRUCTURED-LOCATION;VALUE=URI;X-ADDRESS="Logistikpark 7a, Bayreuth,
  95448, Deutschland";X-APPLE-RADIUS=100;X-TITLE=Orchesterkonzert:GEO:49.96
 7792\,11.611876
END:VEVENT
END:VCALENDAR
