BEGIN:VCALENDAR
VERSION:2.0
PRODID:-//91.233.84.75//NONSGML kigkonsult.se iCalcreator 2.24//
CALSCALE:GREGORIAN
METHOD:PUBLISH
X-WR-TIMEZONE:Europe/Berlin
BEGIN:VTIMEZONE
TZID:Europe/Berlin
X-LIC-LOCATION:Europe/Berlin
BEGIN:STANDARD
DTSTART:19701025T030000
TZOFFSETFROM:+0200
TZOFFSETTO:+0100
TZNAME:CET
END:STANDARD
BEGIN:DAYLIGHT
DTSTART:19700329T020000
TZOFFSETFROM:+0100
TZOFFSETTO:+0200
TZNAME:CEST
END:DAYLIGHT
END:VTIMEZONE
BEGIN:VEVENT
UID:20260421T150327CEST-7750c81d57@91.233.84.75
DTSTAMP:20260421T130327Z
DESCRIPTION:Werke von Zoltan Almashi\, Vitalii Hubarenko\, Wolfgang Amadeus
  Mozart\nYouth Symphony Orchestra of Ukraine im Rahmen des 72. Festival ju
 nger Künstler Bayreuth\nDirigent: Serhii Nesteruk
DTSTART:20220805T190000
DTEND:20220805T190000
GEO:+49.786969;+11.82031
LOCATION:Klosterkirche Maria Immaculata\, Klosterhof\, 92676 Speinshart\, D
 eutschland
SUMMARY:Orchesterkonzert
URL:https://www.youngartistsbayreuth.de/de/veranstaltung/orchesterkonzert-0
 5-08-2022-19-00.html
X-APPLE-STRUCTURED-LOCATION;VALUE=URI;X-ADDRESS="Klosterhof, Speinshart, 92
 676, Deutschland";X-APPLE-RADIUS=100;X-TITLE=Orchesterkonzert:GEO:49.78696
 94\,11.8203095
END:VEVENT
END:VCALENDAR
