BEGIN:VCALENDAR
VERSION:2.0
PRODID:-//91.233.84.75//NONSGML kigkonsult.se iCalcreator 2.24//
CALSCALE:GREGORIAN
METHOD:PUBLISH
X-WR-TIMEZONE:Europe/Berlin
BEGIN:VTIMEZONE
TZID:Europe/Berlin
X-LIC-LOCATION:Europe/Berlin
BEGIN:STANDARD
DTSTART:19701025T030000
TZOFFSETFROM:+0200
TZOFFSETTO:+0100
TZNAME:CET
END:STANDARD
BEGIN:DAYLIGHT
DTSTART:19700329T020000
TZOFFSETFROM:+0100
TZOFFSETTO:+0200
TZNAME:CEST
END:DAYLIGHT
END:VTIMEZONE
BEGIN:VEVENT
UID:20260421T162535CEST-6787b8073c@91.233.84.75
DTSTAMP:20260421T142535Z
DESCRIPTION:Werke von L. v. Beethoven\, B. Frolyak und Y. Stankovych\nYouth
  symphony Orchestra of Ukraine im Rahmen des 73. Festival junger Künstler 
 Bayreuth\nMusikalische Leitung: Oksana Lyniv\nSolistin: Daryna Bachynska\,
  Flöte
DTSTART:20230820T160000
DTEND:20230820T160000
GEO:+49.943155;+11.574541
LOCATION:Stadtkirche Heilig Dreifaltigkeit\, Kirchplatz 1\, 95444 Bayreuth\
 , Deutschland
SUMMARY:Orchesterkonzert
URL:https://www.youngartistsbayreuth.de/en/event/orchesterkonzert-20-08-202
 3-16-00.html
X-APPLE-STRUCTURED-LOCATION;VALUE=URI;X-ADDRESS="Kirchplatz 1, Bayreuth, 95
 444, Deutschland";X-APPLE-RADIUS=100;X-TITLE=Orchesterkonzert:GEO:49.94315
 52\,11.5745409
END:VEVENT
END:VCALENDAR
