BEGIN:VCALENDAR
VERSION:2.0
PRODID:-//91.233.84.75//NONSGML kigkonsult.se iCalcreator 2.24//
CALSCALE:GREGORIAN
METHOD:PUBLISH
X-WR-TIMEZONE:Europe/Berlin
BEGIN:VTIMEZONE
TZID:Europe/Berlin
X-LIC-LOCATION:Europe/Berlin
BEGIN:STANDARD
DTSTART:19701025T030000
TZOFFSETFROM:+0200
TZOFFSETTO:+0100
TZNAME:CET
END:STANDARD
BEGIN:DAYLIGHT
DTSTART:19700329T020000
TZOFFSETFROM:+0100
TZOFFSETTO:+0200
TZNAME:CEST
END:DAYLIGHT
END:VTIMEZONE
BEGIN:VEVENT
UID:20260421T162728CEST-1255d38342@91.233.84.75
DTSTAMP:20260421T142728Z
DESCRIPTION:Prometheus Workshop und Symposion- nur nach Anmeldung -\nProf. 
 Robin Engelen\, DirigentDr. Thomas Rösch\, Direktor des Orff-Zentrums Münc
 hen\nWir danken für die Zusammenarbeit mit dem Orff-Zentrum München\, Staa
 tsinstitut für Forschung und Dokumentation
DTSTART:20200808T130000
DTEND:20200808T190000
GEO:+49.94234;+11.573768
LOCATION:Steingraeber Haus\, Kammermusiksaal\, Friedrichstraße 2\, 95445 Ba
 yreuth\, Deutschland
SUMMARY:Orff - Werkstatt - Bayreuth: Prometheus Workshop und Symposion
URL:https://www.youngartistsbayreuth.de/en/event/orff-werkstatt-bayreuth-pr
 ometheus-workshop-und-08-08-2020-13-00.html
X-APPLE-STRUCTURED-LOCATION;VALUE=URI;X-ADDRESS="Friedrichstraße 2, Bayreut
 h, 95445, Deutschland";X-APPLE-RADIUS=100;X-TITLE="Orff - Werkstatt - Bayr
 euth: Prometheus Workshop und Symposion":GEO:49.9423403\,11.5737679
END:VEVENT
END:VCALENDAR
