BEGIN:VCALENDAR
VERSION:2.0
PRODID:-//91.233.84.75//NONSGML kigkonsult.se iCalcreator 2.24//
CALSCALE:GREGORIAN
METHOD:PUBLISH
X-WR-TIMEZONE:Europe/Berlin
BEGIN:VTIMEZONE
TZID:Europe/Berlin
X-LIC-LOCATION:Europe/Berlin
BEGIN:STANDARD
DTSTART:19701025T030000
TZOFFSETFROM:+0200
TZOFFSETTO:+0100
TZNAME:CET
END:STANDARD
BEGIN:DAYLIGHT
DTSTART:19700329T020000
TZOFFSETFROM:+0100
TZOFFSETTO:+0200
TZNAME:CEST
END:DAYLIGHT
END:VTIMEZONE
BEGIN:VEVENT
UID:20260421T150307CEST-51982b9e08@91.233.84.75
DTSTAMP:20260421T130307Z
DESCRIPTION:Cornelia Monske und Ensemble mit Werken von u. a. D. Skidmore\,
  A. Morad\, M. Miki im Rahmen des 73. Festival junger Künstler Bayreuth\n(
 Bei Schlechtwetter Thammerhaus)
DTSTART:20230815T180000
DTEND:20230815T180000
GEO:+49.426114;+12.481353
LOCATION:Marktplatz &#40\;Open Air&#41\;\, Marktplatz\, 92559 Winklarn\, De
 utschland
SUMMARY:Percussion Pur!
URL:https://www.youngartistsbayreuth.de/de/veranstaltung/percussion-pur-15-
 08-2023-18-00.html
X-APPLE-STRUCTURED-LOCATION;VALUE=URI;X-ADDRESS="Marktplatz, Winklarn, 9255
 9, Deutschland";X-APPLE-RADIUS=100;X-TITLE=Percussion Pur!:GEO:49.42611421
 582111\,12.481353356534083
END:VEVENT
END:VCALENDAR
