BEGIN:VCALENDAR
VERSION:2.0
PRODID:-//91.233.84.75//NONSGML kigkonsult.se iCalcreator 2.24//
CALSCALE:GREGORIAN
METHOD:PUBLISH
X-WR-TIMEZONE:Europe/Berlin
BEGIN:VTIMEZONE
TZID:Europe/Berlin
X-LIC-LOCATION:Europe/Berlin
BEGIN:STANDARD
DTSTART:19701025T030000
TZOFFSETFROM:+0200
TZOFFSETTO:+0100
TZNAME:CET
END:STANDARD
BEGIN:DAYLIGHT
DTSTART:19700329T020000
TZOFFSETFROM:+0100
TZOFFSETTO:+0200
TZNAME:CEST
END:DAYLIGHT
END:VTIMEZONE
BEGIN:VEVENT
UID:20260421T161241CEST-1129197ac5@91.233.84.75
DTSTAMP:20260421T141241Z
DESCRIPTION:Cornelia Monske und Ensemble mit Werken von u. a. D. Skidmore\,
  A. Morad\, M. Miki im Rahmen des 73. Festival junger Künstler Bayreuth
DTSTART:20230816T190000
DTEND:20230816T190000
GEO:+50.00275;+12.08733
LOCATION:Stadthalle\, Bauerstraße 10\, 95615 Marktredwitz\, Deutschland
SUMMARY:Percussion Pur!
URL:https://www.youngartistsbayreuth.de/de/veranstaltung/percussion-pur-16-
 08-2023-19-00.html
X-APPLE-STRUCTURED-LOCATION;VALUE=URI;X-ADDRESS="Bauerstraße 10, Marktredwi
 tz, 95615, Deutschland";X-APPLE-RADIUS=100;X-TITLE=Percussion Pur!:GEO:50.
 00275\,12.08733
END:VEVENT
END:VCALENDAR
