BEGIN:VCALENDAR
VERSION:2.0
PRODID:-//91.233.84.75//NONSGML kigkonsult.se iCalcreator 2.24//
CALSCALE:GREGORIAN
METHOD:PUBLISH
X-WR-TIMEZONE:Europe/Berlin
BEGIN:VTIMEZONE
TZID:Europe/Berlin
X-LIC-LOCATION:Europe/Berlin
BEGIN:STANDARD
DTSTART:19701025T030000
TZOFFSETFROM:+0200
TZOFFSETTO:+0100
TZNAME:CET
END:STANDARD
BEGIN:DAYLIGHT
DTSTART:19700329T020000
TZOFFSETFROM:+0100
TZOFFSETTO:+0200
TZNAME:CEST
END:DAYLIGHT
END:VTIMEZONE
BEGIN:VEVENT
UID:20260421T145319CEST-486250c43e@91.233.84.75
DTSTAMP:20260421T125319Z
DESCRIPTION:Cornelia Monske und Ensemble mit Werken von u. a. D. Skidmore\,
  A. Morad\, M. Miki im Rahmen des 73. Festival junger Künstler Bayreuth\n(
 Bei Schlechtwetter Aula des WWG)
DTSTART:20230817T200000
DTEND:20230817T200000
GEO:+49.943668;+11.58675
LOCATION:Internationaler Biergarten &#40\;WWG&#41\;\, Am Sportpark 1\, 9544
 8 Bayreuth\, Deutschland
SUMMARY:Percussion Pur!
URL:https://www.youngartistsbayreuth.de/de/veranstaltung/percussion-pur-17-
 08-2023-20-00.html
X-APPLE-STRUCTURED-LOCATION;VALUE=URI;X-ADDRESS="Am Sportpark 1, Bayreuth, 
 95448, Deutschland";X-APPLE-RADIUS=100;X-TITLE=Percussion Pur!:GEO:49.9436
 68\,11.5867502
END:VEVENT
END:VCALENDAR
