BEGIN:VCALENDAR
VERSION:2.0
PRODID:-//91.233.84.75//NONSGML kigkonsult.se iCalcreator 2.24//
CALSCALE:GREGORIAN
METHOD:PUBLISH
X-WR-TIMEZONE:Europe/Berlin
BEGIN:VTIMEZONE
TZID:Europe/Berlin
X-LIC-LOCATION:Europe/Berlin
BEGIN:STANDARD
DTSTART:19701025T030000
TZOFFSETFROM:+0200
TZOFFSETTO:+0100
TZNAME:CET
END:STANDARD
BEGIN:DAYLIGHT
DTSTART:19700329T020000
TZOFFSETFROM:+0100
TZOFFSETTO:+0200
TZNAME:CEST
END:DAYLIGHT
END:VTIMEZONE
BEGIN:VEVENT
UID:20260421T162535CEST-0017191d16@91.233.84.75
DTSTAMP:20260421T142535Z
DESCRIPTION:Sommergalamit festlichen Musiken von u. a. J. S. Bach\, W. A. M
 ozart und G. Rossini\nEnsemble Enigma Classica im Rahmen des 71. Festival 
 junger Künstler Bayreuth\nDirigentin: Anna Handler\n- geladene Gäste -\n 
 \nDas Galakonzert anlässlich der Eröffnung des 71. Festival junger Künstle
 r Bayreuth findet statt.Es ist ein leichter Sommerregen angesagt. Regencap
 es werden auf jeden Fall ausgegeben.Wir freuen uns auf unsere geladenen Gä
 ste.\n \nWir danken für die Förderung:www.theringsight.com
DTSTART:20210802T180000
DTEND:20210802T180000
GEO:+49.946313;+11.601495
LOCATION:Seebühne in der Wilhelminenaue\, Äußere Badstraße 27\, 95448 Bayre
 uth\, Deutschland
SUMMARY:Picknick.Extra.vagant
URL:https://www.youngartistsbayreuth.de/en/event/picknick-extra-vagant-02-0
 8-2021-18-00.html
X-APPLE-STRUCTURED-LOCATION;VALUE=URI;X-ADDRESS="Äußere Badstraße 27, Bayre
 uth, 95448, Deutschland";X-APPLE-RADIUS=100;X-TITLE=Picknick.Extra.vagant:
 GEO:49.946313\,11.601495
END:VEVENT
END:VCALENDAR
