BEGIN:VCALENDAR
VERSION:2.0
PRODID:-//91.233.84.75//NONSGML kigkonsult.se iCalcreator 2.24//
CALSCALE:GREGORIAN
METHOD:PUBLISH
X-WR-TIMEZONE:Europe/Berlin
BEGIN:VTIMEZONE
TZID:Europe/Berlin
X-LIC-LOCATION:Europe/Berlin
BEGIN:STANDARD
DTSTART:19701025T030000
TZOFFSETFROM:+0200
TZOFFSETTO:+0100
TZNAME:CET
END:STANDARD
BEGIN:DAYLIGHT
DTSTART:19700329T020000
TZOFFSETFROM:+0100
TZOFFSETTO:+0200
TZNAME:CEST
END:DAYLIGHT
END:VTIMEZONE
BEGIN:VEVENT
UID:20260421T164020CEST-6292106402@91.233.84.75
DTSTAMP:20260421T144020Z
DESCRIPTION:Benefizkonzert unter dem Titel 'Versöhnung' für junge Künstleri
 nnen und Künstler\nDas Polizeiorchester Bayern lädt zum Benefizkonzert unt
 er dem Titel 'Versöhnung' am Freitag\, 15. März 2024\, um 19 Uhr in die St
 adtkirche Bayreuth ein. Der Erlös dieses besonderen Konzerts kommt den För
 derern des Festival junger Künstler Bayreuth und damit den jungen internat
 ionalen Künstlerinnen und Künstlern zugute.\nInformationen und  Programm 
 \nKarten gibt es in der Theaterkasse Bayreuth und an den Abendkassen.
DTSTART:20240315T190000
DTEND:20240315T203000
GEO:+49.943155;+11.574541
LOCATION:Stadtkirche Heilig Dreifaltigkeit\, Kirchplatz 1\, 95444 Bayreuth\
 , Deutschland
SUMMARY:Polizeiorchester Bayern gab Benefizkonzert in der Stadtkirche Bayre
 uth
URL:https://www.youngartistsbayreuth.de/en/event/polizeiorchester-bayern-ga
 b-benefizkonzert-in-der-15-03-2024-19-00.html
X-APPLE-STRUCTURED-LOCATION;VALUE=URI;X-ADDRESS="Kirchplatz 1, Bayreuth, 95
 444, Deutschland";X-APPLE-RADIUS=100;X-TITLE=Polizeiorchester Bayern gab B
 enefizkonzert in der Stadtkirche Bayreuth:GEO:49.9431552\,11.5745409
END:VEVENT
END:VCALENDAR
