BEGIN:VCALENDAR
VERSION:2.0
PRODID:-//91.233.84.75//NONSGML kigkonsult.se iCalcreator 2.24//
CALSCALE:GREGORIAN
METHOD:PUBLISH
X-WR-TIMEZONE:Europe/Berlin
BEGIN:VTIMEZONE
TZID:Europe/Berlin
X-LIC-LOCATION:Europe/Berlin
BEGIN:STANDARD
DTSTART:19701025T030000
TZOFFSETFROM:+0200
TZOFFSETTO:+0100
TZNAME:CET
END:STANDARD
BEGIN:DAYLIGHT
DTSTART:19700329T020000
TZOFFSETFROM:+0100
TZOFFSETTO:+0200
TZNAME:CEST
END:DAYLIGHT
END:VTIMEZONE
BEGIN:VEVENT
UID:20260421T164015CEST-0125a8f832@91.233.84.75
DTSTAMP:20260421T144015Z
DESCRIPTION:Benefizkonzert für junge Künstlerinnen und Künstler\nDas Polize
 iorchester Bayern lädt zum Passionskonzert am Freitag\, 31. März 2023\, um
  19 Uhr in die Stadtkirche Bayreuth ein. Der Erlös dieses außergewöhnliche
 n Benefizkonzerts kommt den Förderern des Festival junger Künstler Bayreut
 h und damit den jungen internationalen Künstlerinnen und Künstlern zugute.
 \nInformationen    Programmflyer \nKarten gibt es in der Theaterkasse Bayr
 euth und an den Abendkassen.
DTSTART:20230331T190000
DTEND:20230331T203000
GEO:+49.943155;+11.574541
LOCATION:Stadtkirche Heilig Dreifaltigkeit\, Kirchplatz 1\, 95444 Bayreuth\
 , Deutschland
SUMMARY:Polizeiorchester Bayern spielt 'Die Passion' in der Stadtkirche Bay
 reuth
URL:https://www.youngartistsbayreuth.de/en/event/polizeiorchester-bayern-sp
 ielt-die-passion-in-der-31-03-2023-19-00.html
X-APPLE-STRUCTURED-LOCATION;VALUE=URI;X-ADDRESS="Kirchplatz 1, Bayreuth, 95
 444, Deutschland";X-APPLE-RADIUS=100;X-TITLE=Polizeiorchester Bayern spiel
 t "Die Passion" in der Stadtkirche Bayreuth:GEO:49.9431552\,11.5745409
END:VEVENT
END:VCALENDAR
