BEGIN:VCALENDAR
VERSION:2.0
PRODID:-//91.233.84.75//NONSGML kigkonsult.se iCalcreator 2.24//
CALSCALE:GREGORIAN
METHOD:PUBLISH
X-WR-TIMEZONE:Europe/Berlin
BEGIN:VTIMEZONE
TZID:Europe/Berlin
X-LIC-LOCATION:Europe/Berlin
BEGIN:STANDARD
DTSTART:19701025T030000
TZOFFSETFROM:+0200
TZOFFSETTO:+0100
TZNAME:CET
END:STANDARD
BEGIN:DAYLIGHT
DTSTART:19700329T020000
TZOFFSETFROM:+0100
TZOFFSETTO:+0200
TZNAME:CEST
END:DAYLIGHT
END:VTIMEZONE
BEGIN:VEVENT
UID:20260421T164752CEST-542239dcc6@91.233.84.75
DTSTAMP:20260421T144752Z
DESCRIPTION:Ausschnitte aus Carl Orffs Musiktheater „Prometheus“ und eine U
 raufführung „Prometheus Unbound“ von Fredrik Schwenk\nMusikalische Leitung
 : Robin EngelenRegie: Michaela DicuLichtdesign: Michael KantrowitschSolist
 :innen: Caroline Adler\, Sopran\; Georgios Iatrou\, Bariton\; James Young\
 , BaritonOrchester und Chor des 71. Festival junger Künstler Bayreuth\nWei
 tere Aufführung am Freitag\, 13. August 2021\n \n \nPrometheus: Die Idee\n
 „Menschenbildner\, Feuerbringer und Rebell: Prometheus. Seit Jahrtausenden
  eine Symbolfigur des zivilisatorischen Fortschritts und der Auflehnung ge
 gen die Götter. Der menschenliebende Titan ist eine der ambivalentesten Fi
 guren der griechischen Mythologie\, von den einen zum Helden stilisiert un
 d von den anderen als Verräter gebrandmarkt. Der gefesselte Prometheus ers
 chüttert aus der Verbannung heraus die althergebrachte Ordnung\, offenbart
  Zeus’ Schwächen\, greift seine Entscheidungen an und prophezeit ihm den U
 ntergang. Ein antiker Outlaw und Whistleblower\, leidend und doch auch ver
 blendet in seinem Wissen um seine politische Macht\, stilisiert er sich zu
 m Opfer.\nIn einer multimedialen szenischen Installation bringen die Aussc
 hnitte aus Carl Orffs Musiktheater „Prometheus“ und die Klänge der Urauffü
 hrung „Prometheus Unbound“ des Hamburger Komponisten Fredrik Schwenk zwei 
 exemplarische Bearbeitungen des gefesselten und entfesselten Prometheus au
 f die Bühne des Europasaales und befragen die mythische Figur (aus heutige
 r Sicht) neu. Wieder darf er die Götter an- und uns sein Leid klagen.\nGet
 ragen von den entfesselten Kräften des Orchesters wettert und stemmt er si
 ch erneut im Kampf um die Wahrheit\, während ein gleißendes Lichtspektakel
  das Feuer in uns entfacht und uns zum Teil des Geschehens macht. Werden w
 ir dieses Mal Prometheus befreien oder bleibt er weitere 3000 Jahre in Ket
 ten?“\nMichaela Dicu\, Regisseurin
DTSTART:20210811T190000
DTEND:20210811T190000
GEO:+49.94286;+11.5876
LOCATION:DAS ZENTRUM\, Europasaal\, Äußere Badstraße 7a\, 95448 Bayreuth\, 
 Deutschland
SUMMARY:Premiere - Mythos Prometheus
URL:https://www.youngartistsbayreuth.de/en/event/premiere-mythos-prometheus
 -11-08-2021-19-00.html
X-APPLE-STRUCTURED-LOCATION;VALUE=URI;X-ADDRESS="Äußere Badstraße 7a, Bayre
 uth, 95448, Deutschland";X-APPLE-RADIUS=100;X-TITLE=Premiere - Mythos Prom
 etheus:GEO:49.94286\,11.5876
END:VEVENT
END:VCALENDAR
