BEGIN:VCALENDAR
VERSION:2.0
PRODID:-//91.233.84.75//NONSGML kigkonsult.se iCalcreator 2.24//
CALSCALE:GREGORIAN
METHOD:PUBLISH
X-WR-TIMEZONE:Europe/Berlin
BEGIN:VTIMEZONE
TZID:Europe/Berlin
X-LIC-LOCATION:Europe/Berlin
BEGIN:STANDARD
DTSTART:19701025T030000
TZOFFSETFROM:+0200
TZOFFSETTO:+0100
TZNAME:CET
END:STANDARD
BEGIN:DAYLIGHT
DTSTART:19700329T020000
TZOFFSETFROM:+0100
TZOFFSETTO:+0200
TZNAME:CEST
END:DAYLIGHT
END:VTIMEZONE
BEGIN:VEVENT
UID:20260421T145320CEST-3262ee53b2@91.233.84.75
DTSTAMP:20260421T125320Z
DESCRIPTION:Eine dynamische Fusion von Christian Benning und dem Noricum St
 reichquartett\nmit Werken von u. a. A. Pärt\, E. Grieg\, W. A. Mozart und 
 J. Brahms\nim Rahmen des 73. Festival junger Künstler Bayreuth
DTSTART:20230810T200000
DTEND:20230810T200000
GEO:+49.756055;+11.539265
LOCATION:Stadtpfarrkirche St. Bartholomäus\, Rosengasse 40\, 91257 Pegnitz\
 , Deutschland
SUMMARY:Rhythm und Strings
URL:https://www.youngartistsbayreuth.de/de/veranstaltung/rhythm-und-strings
 -10-08-2023-20-00.html
X-APPLE-STRUCTURED-LOCATION;VALUE=URI;X-ADDRESS="Rosengasse 40, Pegnitz, 91
 257, Deutschland";X-APPLE-RADIUS=100;X-TITLE=Rhythm und Strings:GEO:49.756
 0554\,11.5392653
END:VEVENT
END:VCALENDAR
