BEGIN:VCALENDAR
VERSION:2.0
PRODID:-//91.233.84.75//NONSGML kigkonsult.se iCalcreator 2.24//
CALSCALE:GREGORIAN
METHOD:PUBLISH
X-WR-TIMEZONE:Europe/Berlin
BEGIN:VTIMEZONE
TZID:Europe/Berlin
X-LIC-LOCATION:Europe/Berlin
BEGIN:STANDARD
DTSTART:19701025T030000
TZOFFSETFROM:+0200
TZOFFSETTO:+0100
TZNAME:CET
END:STANDARD
BEGIN:DAYLIGHT
DTSTART:19700329T020000
TZOFFSETFROM:+0100
TZOFFSETTO:+0200
TZNAME:CEST
END:DAYLIGHT
END:VTIMEZONE
BEGIN:VEVENT
UID:20260421T145320CEST-717369d00b@91.233.84.75
DTSTAMP:20260421T125320Z
DESCRIPTION:Eine dynamische Fusion von Christian Benning und dem Noricum St
 reichquartett\nmit Werken von u. a. A. Pärt\, E. Grieg\, W. A. Mozart und 
 J. Brahms\nim Rahmen des 73. Festival junger Künstler Bayreuth
DTSTART:20230812T193000
DTEND:20230812T193000
GEO:+49.944304;+11.577294
LOCATION:Kath. Schlosskirche Unsere Liebe Frau\, Schlossberglein 3\, 95444 
 Bayreuth\, Deutschland
SUMMARY:Rhythm und Strings
URL:https://www.youngartistsbayreuth.de/de/veranstaltung/rhythm-und-strings
 -12-08-2023-19-30.html
X-APPLE-STRUCTURED-LOCATION;VALUE=URI;X-ADDRESS="Schlossberglein 3, Bayreut
 h, 95444, Deutschland";X-APPLE-RADIUS=100;X-TITLE=Rhythm und Strings:GEO:4
 9.944304\,11.577294
END:VEVENT
END:VCALENDAR
