BEGIN:VCALENDAR
VERSION:2.0
PRODID:-//91.233.84.75//NONSGML kigkonsult.se iCalcreator 2.24//
CALSCALE:GREGORIAN
METHOD:PUBLISH
X-WR-TIMEZONE:Europe/Berlin
BEGIN:VTIMEZONE
TZID:Europe/Berlin
X-LIC-LOCATION:Europe/Berlin
BEGIN:STANDARD
DTSTART:19701025T030000
TZOFFSETFROM:+0200
TZOFFSETTO:+0100
TZNAME:CET
END:STANDARD
BEGIN:DAYLIGHT
DTSTART:19700329T020000
TZOFFSETFROM:+0100
TZOFFSETTO:+0200
TZNAME:CEST
END:DAYLIGHT
END:VTIMEZONE
BEGIN:VEVENT
UID:20260421T163841CEST-0435c47531@91.233.84.75
DTSTAMP:20260421T143841Z
DESCRIPTION:Konzert mit Orgeltranskriptionen zu Richard Wagners Ouvertüren 
 und Percussion-Orgel-Improvisationen des 20. Jahrhunderts\nSolisten des 70
 . Festival junger Künstler BayreuthChristian Felix Benning\, PercussionHan
 sjörg Albrecht\, Orgel
DTSTART:20200806T190000
DTEND:20200806T190000
GEO:+49.943155;+11.574541
LOCATION:Stadtkirche Heilig Dreifaltigkeit und im Livestream\, Kirchplatz 1
 \, 95444 Bayreuth\, Deutschland
SUMMARY:„Richard Wagner vermisst seine Festspiele“...
URL:https://www.youngartistsbayreuth.de/en/event/richard-wagner-vermisst-se
 ine-festspiele-06-08-2020-19-00.html
X-APPLE-STRUCTURED-LOCATION;VALUE=URI;X-ADDRESS="Kirchplatz 1, Bayreuth, 95
 444, Deutschland";X-APPLE-RADIUS=100;X-TITLE=„Richard Wagner vermisst sein
 e Festspiele“...:GEO:49.9431552\,11.5745409
END:VEVENT
END:VCALENDAR
