BEGIN:VCALENDAR
VERSION:2.0
PRODID:-//91.233.84.75//NONSGML kigkonsult.se iCalcreator 2.24//
CALSCALE:GREGORIAN
METHOD:PUBLISH
X-WR-TIMEZONE:Europe/Berlin
BEGIN:VTIMEZONE
TZID:Europe/Berlin
X-LIC-LOCATION:Europe/Berlin
BEGIN:STANDARD
DTSTART:19701025T030000
TZOFFSETFROM:+0200
TZOFFSETTO:+0100
TZNAME:CET
END:STANDARD
BEGIN:DAYLIGHT
DTSTART:19700329T020000
TZOFFSETFROM:+0100
TZOFFSETTO:+0200
TZNAME:CEST
END:DAYLIGHT
END:VTIMEZONE
BEGIN:VEVENT
UID:20260421T164013CEST-6898c5d1e2@91.233.84.75
DTSTAMP:20260421T144013Z
DESCRIPTION:mit dem Modern String Quartet:Joerg Widmoser\, Violine\;Winfrie
 d Zrenner\, Violine\;Andreas Hoericht\, Viola\;Thomas Wollenweber\, Cello
DTSTART:20200804T190000
DTEND:20200804T190000
GEO:+49.94478;+11.574966
LOCATION:Kulturbühne Reichshof\, Maximilianstraße 28\, 95444 Bayreuth\, Deu
 tschland
SUMMARY:„Rite of Swing“ I. Strawinsky und der Jazz von Duke Ellington
URL:https://www.youngartistsbayreuth.de/en/event/rite-of-swing-i-strawinsky
 -und-der-jazz-von-duke-04-08-2020-19-00.html
X-APPLE-STRUCTURED-LOCATION;VALUE=URI;X-ADDRESS="Maximilianstraße 28, Bayre
 uth, 95444, Deutschland";X-APPLE-RADIUS=100;X-TITLE=„Rite of Swing“ I. Str
 awinsky und der Jazz von Duke Ellington:GEO:49.9447798\,11.5749662
END:VEVENT
END:VCALENDAR
