BEGIN:VCALENDAR
VERSION:2.0
PRODID:-//91.233.84.75//NONSGML kigkonsult.se iCalcreator 2.24//
CALSCALE:GREGORIAN
METHOD:PUBLISH
X-WR-TIMEZONE:Europe/Berlin
BEGIN:VTIMEZONE
TZID:Europe/Berlin
X-LIC-LOCATION:Europe/Berlin
BEGIN:STANDARD
DTSTART:19701025T030000
TZOFFSETFROM:+0200
TZOFFSETTO:+0100
TZNAME:CET
END:STANDARD
BEGIN:DAYLIGHT
DTSTART:19700329T020000
TZOFFSETFROM:+0100
TZOFFSETTO:+0200
TZNAME:CEST
END:DAYLIGHT
END:VTIMEZONE
BEGIN:VEVENT
UID:20260421T163934CEST-8617767a42@91.233.84.75
DTSTAMP:20260421T143934Z
DESCRIPTION:Munich String Band: Philip Bradatsch\, Stimme & Banjo\; Philipp
  Schöppe\, Mandoline & Stimme\; Gabriel McCaslin\, Stimme & Fiddle\; Rico 
 Waldmann\, Stimme & Gitarre\;Abdalhadi Deep\, Stimme & Oud\; Laila Mahmoud
 \, Qanun\; Bayerische Volksmusik.\nVladimir Ivanoff\, Programm & Musikalis
 che Leitung
DTSTART:20200807T190000
DTEND:20200807T190000
GEO:+49.94286;+11.5876
LOCATION:DAS ZENTRUM und im Livestream\, Äußere Badstraße 7a\, 95448 Bayreu
 th\, Deutschland
SUMMARY:Roots to the Future: Wild West meets Wild East!
URL:https://www.youngartistsbayreuth.de/en/event/roots-to-the-future-wild-w
 est-meets-wild-east-07-08-2020-19-00.html
X-APPLE-STRUCTURED-LOCATION;VALUE=URI;X-ADDRESS="Äußere Badstraße 7a, Bayre
 uth, 95448, Deutschland";X-APPLE-RADIUS=100;X-TITLE="Roots to the Future: 
 Wild West meets Wild East!":GEO:49.94286\,11.5876
END:VEVENT
END:VCALENDAR
