BEGIN:VCALENDAR
VERSION:2.0
PRODID:-//91.233.84.75//NONSGML kigkonsult.se iCalcreator 2.24//
CALSCALE:GREGORIAN
METHOD:PUBLISH
X-WR-TIMEZONE:Europe/Berlin
BEGIN:VTIMEZONE
TZID:Europe/Berlin
X-LIC-LOCATION:Europe/Berlin
BEGIN:STANDARD
DTSTART:19701025T030000
TZOFFSETFROM:+0200
TZOFFSETTO:+0100
TZNAME:CET
END:STANDARD
BEGIN:DAYLIGHT
DTSTART:19700329T020000
TZOFFSETFROM:+0100
TZOFFSETTO:+0200
TZNAME:CEST
END:DAYLIGHT
END:VTIMEZONE
BEGIN:VEVENT
UID:20260421T164014CEST-1034fecd8a@91.233.84.75
DTSTAMP:20260421T144014Z
DESCRIPTION:
DTSTART:20210731T180000
DTEND:20210731T180000
GEO:+49.94286;+11.5876
LOCATION:DAS ZENTRUM\, digital im Kultursalon\, Äußere Badstraße 7a\, 95448
  Bayreuth\, Deutschland
SUMMARY:Sakrileg! Unerhört! Darf nicht sein! - Klassik auf E-Geigen - ein S
 treitgespräch
URL:https://www.youngartistsbayreuth.de/en/event/sakrileg-unerh%C3%B6rt-dar
 f-nicht-sein-klassik-auf-e-geigen-31-07-2021-18-00.html
X-APPLE-STRUCTURED-LOCATION;VALUE=URI;X-ADDRESS="Äußere Badstraße 7a, Bayre
 uth, 95448, Deutschland";X-APPLE-RADIUS=100;X-TITLE=Sakrileg! Unerhört! Da
 rf nicht sein! - Klassik auf E-Geigen - ein Streitgespräch:GEO:49.94286\,1
 1.5876
END:VEVENT
END:VCALENDAR
