BEGIN:VCALENDAR
VERSION:2.0
PRODID:-//91.233.84.75//NONSGML kigkonsult.se iCalcreator 2.24//
CALSCALE:GREGORIAN
METHOD:PUBLISH
X-WR-TIMEZONE:Europe/Berlin
BEGIN:VTIMEZONE
TZID:Europe/Berlin
X-LIC-LOCATION:Europe/Berlin
BEGIN:STANDARD
DTSTART:19701025T030000
TZOFFSETFROM:+0200
TZOFFSETTO:+0100
TZNAME:CET
END:STANDARD
BEGIN:DAYLIGHT
DTSTART:19700329T020000
TZOFFSETFROM:+0100
TZOFFSETTO:+0200
TZNAME:CEST
END:DAYLIGHT
END:VTIMEZONE
BEGIN:VEVENT
UID:20260421T164700CEST-7285bece87@91.233.84.75
DTSTAMP:20260421T144700Z
DESCRIPTION:Perlen der Kammermusik mit Werken von u. a. F. Mendelssohn-Bart
 holdy\, A. Dvořák\, G. Holst\nMusikalische Leitung: Anna Handler
DTSTART:20220811T193000
DTEND:20220811T193000
GEO:+49.944304;+11.577294
LOCATION:Kath. Schlosskirche Unsere Liebe Frau\, Schlossberglein 3\, 95444 
 Bayreuth\, Deutschland
SUMMARY:Salonkonzert
URL:https://www.youngartistsbayreuth.de/en/event/salonkonzert-11-08-2022-19
 -30.html
X-APPLE-STRUCTURED-LOCATION;VALUE=URI;X-ADDRESS="Schlossberglein 3, Bayreut
 h, 95444, Deutschland";X-APPLE-RADIUS=100;X-TITLE=Salonkonzert:GEO:49.9443
 04\,11.577294
END:VEVENT
END:VCALENDAR
