BEGIN:VCALENDAR
VERSION:2.0
PRODID:-//91.233.84.75//NONSGML kigkonsult.se iCalcreator 2.24//
CALSCALE:GREGORIAN
METHOD:PUBLISH
X-WR-TIMEZONE:Europe/Berlin
BEGIN:VTIMEZONE
TZID:Europe/Berlin
X-LIC-LOCATION:Europe/Berlin
BEGIN:STANDARD
DTSTART:19701025T030000
TZOFFSETFROM:+0200
TZOFFSETTO:+0100
TZNAME:CET
END:STANDARD
BEGIN:DAYLIGHT
DTSTART:19700329T020000
TZOFFSETFROM:+0100
TZOFFSETTO:+0200
TZNAME:CEST
END:DAYLIGHT
END:VTIMEZONE
BEGIN:VEVENT
UID:20260421T162532CEST-7369de3c4c@91.233.84.75
DTSTAMP:20260421T142532Z
DESCRIPTION:Heitere Sommermusik\nmit Solistinnen und Solisten des 73. Festi
 val junger Künstler Bayreuth
DTSTART:20230811T150000
DTEND:20230811T150000
GEO:
LOCATION:\, \,  \, Deutschland
SUMMARY:Seniorennachmittag
URL:https://www.youngartistsbayreuth.de/en/event/seniorennachmittag-11-08-2
 023-15-00.html
X-APPLE-STRUCTURED-LOCATION;VALUE=URI;X-ADDRESS=", , , Deutschland";X-APPLE
 -RADIUS=100;X-TITLE=Seniorennachmittag:GEO:\,
END:VEVENT
END:VCALENDAR
