BEGIN:VCALENDAR
VERSION:2.0
PRODID:-//91.233.84.75//NONSGML kigkonsult.se iCalcreator 2.24//
CALSCALE:GREGORIAN
METHOD:PUBLISH
X-WR-TIMEZONE:Europe/Berlin
BEGIN:VTIMEZONE
TZID:Europe/Berlin
X-LIC-LOCATION:Europe/Berlin
BEGIN:STANDARD
DTSTART:19701025T030000
TZOFFSETFROM:+0200
TZOFFSETTO:+0100
TZNAME:CET
END:STANDARD
BEGIN:DAYLIGHT
DTSTART:19700329T020000
TZOFFSETFROM:+0100
TZOFFSETTO:+0200
TZNAME:CEST
END:DAYLIGHT
END:VTIMEZONE
BEGIN:VEVENT
UID:20260421T145421CEST-0695291ee8@91.233.84.75
DTSTAMP:20260421T125421Z
DESCRIPTION:Das Klavierduo VooDoo: Vuk Božilović und Dušan Grozdanović mit 
 Werken von u. a. S. Rachmaninow und J. S. Bach\nim Rahmen des 73. Festival
  junger Künstler Bayreuth
DTSTART:20230813T170000
DTEND:20230813T170000
GEO:+49.42621;+12.480818
LOCATION:Thammer Haus\, Marktplatz 5\, 92559 Winklarn\, Deutschland
SUMMARY:Serenade
URL:https://www.youngartistsbayreuth.de/de/veranstaltung/serenade-13-08-202
 3-17-00.html
X-APPLE-STRUCTURED-LOCATION;VALUE=URI;X-ADDRESS="Marktplatz 5, Winklarn, 92
 559, Deutschland";X-APPLE-RADIUS=100;X-TITLE=Serenade:GEO:49.4262102\,12.4
 80818
END:VEVENT
END:VCALENDAR
