BEGIN:VCALENDAR
VERSION:2.0
PRODID:-//91.233.84.75//NONSGML kigkonsult.se iCalcreator 2.24//
CALSCALE:GREGORIAN
METHOD:PUBLISH
X-WR-TIMEZONE:Europe/Berlin
BEGIN:VTIMEZONE
TZID:Europe/Berlin
X-LIC-LOCATION:Europe/Berlin
BEGIN:STANDARD
DTSTART:19701025T030000
TZOFFSETFROM:+0200
TZOFFSETTO:+0100
TZNAME:CET
END:STANDARD
BEGIN:DAYLIGHT
DTSTART:19700329T020000
TZOFFSETFROM:+0100
TZOFFSETTO:+0200
TZNAME:CEST
END:DAYLIGHT
END:VTIMEZONE
BEGIN:VEVENT
UID:20260421T164020CEST-0719d8106f@91.233.84.75
DTSTAMP:20260421T144020Z
DESCRIPTION:Der Macedonia University Choir aus Thessaloniki unter der Leitu
 ng von Maria Emma Meligopoulou lädt zur abendlichen Chormusik mit Werken u
 .a. von Chrysostomos Wutsas\, Manos Hatzidakis\, Stefanos Vasileiadis sowi
 e traditionellen Chorwerken aus Makedonien und Thrakien.\nEin Konzert des 
 75. Festival junger Künstler Bayreuth.
DTSTART:20250807T190000
DTEND:20250807T203000
GEO:+49.939735;+11.5839
LOCATION:Villa Markgraf\, Lisztstraße 16\, 95444 Bayreuth\, Deutschland
SUMMARY:“Serenade für sommerliche Chormusik”
URL:https://www.youngartistsbayreuth.de/en/event/serenade-f%C3%BCr-sommerli
 che-chormusik-07-08-2025-19-00.html
X-APPLE-STRUCTURED-LOCATION;VALUE=URI;X-ADDRESS="Lisztstraße 16, Bayreuth, 
 95444, Deutschland";X-APPLE-RADIUS=100;X-TITLE=“Serenade für sommerliche C
 hormusik”:GEO:49.9397346\,11.5838999
END:VEVENT
END:VCALENDAR
