BEGIN:VCALENDAR
VERSION:2.0
PRODID:-//91.233.84.75//NONSGML kigkonsult.se iCalcreator 2.24//
CALSCALE:GREGORIAN
METHOD:PUBLISH
X-WR-TIMEZONE:Europe/Berlin
BEGIN:VTIMEZONE
TZID:Europe/Berlin
X-LIC-LOCATION:Europe/Berlin
BEGIN:STANDARD
DTSTART:19701025T030000
TZOFFSETFROM:+0200
TZOFFSETTO:+0100
TZNAME:CET
END:STANDARD
BEGIN:DAYLIGHT
DTSTART:19700329T020000
TZOFFSETFROM:+0100
TZOFFSETTO:+0200
TZNAME:CEST
END:DAYLIGHT
END:VTIMEZONE
BEGIN:VEVENT
UID:20260421T164020CEST-086830ba71@91.233.84.75
DTSTAMP:20260421T144020Z
DESCRIPTION:Das 74. Festival junger Künstler Bayreuthstartet in den Sommer 
 mit SOL LATINO - Lebensfreude pur aus Lateinamerika:Boleros\, Tangos und v
 ieles mehr. Einladungsflyer\nClaraliz Mora - Harfe und SopranOliver Pürckh
 auer - BassYudania Gomez Heredia - Klavier& Special Guests!\nFamilienkonze
 rt mit Kinderbetreuung -  Classic & Cola\nMeet & Greet:Im Anschluss an das
  Konzert stellen die Künstler ihre neue CD in der Festival-Lounge vor.\nTi
 cketsTageskasse und beim Festival unter 0921 9800444.Sie zahlen am Schluss
 \, was es Ihnen wert ist.
DTSTART:20240602T170000
DTEND:20240602T183000
GEO:+49.94286;+11.5876
LOCATION:DAS ZENTRUM\, Äußere Badstraße 7a\, 95448 Bayreuth\, Deutschland
SUMMARY:SOL LATINO - Lebensfreude pur aus Lateinamerika
URL:https://www.youngartistsbayreuth.de/en/event/sol-latino-lebensfreude-pu
 r-aus-lateinamerika-02-06-2024-17-00.html
X-APPLE-STRUCTURED-LOCATION;VALUE=URI;X-ADDRESS="Äußere Badstraße 7a, Bayre
 uth, 95448, Deutschland";X-APPLE-RADIUS=100;X-TITLE=SOL LATINO - Lebensfre
 ude pur aus Lateinamerika:GEO:49.94286\,11.5876
END:VEVENT
END:VCALENDAR
