BEGIN:VCALENDAR
VERSION:2.0
PRODID:-//91.233.84.75//NONSGML kigkonsult.se iCalcreator 2.24//
CALSCALE:GREGORIAN
METHOD:PUBLISH
X-WR-TIMEZONE:Europe/Berlin
BEGIN:VTIMEZONE
TZID:Europe/Berlin
X-LIC-LOCATION:Europe/Berlin
BEGIN:STANDARD
DTSTART:19701025T030000
TZOFFSETFROM:+0200
TZOFFSETTO:+0100
TZNAME:CET
END:STANDARD
BEGIN:DAYLIGHT
DTSTART:19700329T020000
TZOFFSETFROM:+0100
TZOFFSETTO:+0200
TZNAME:CEST
END:DAYLIGHT
END:VTIMEZONE
BEGIN:VEVENT
UID:20260421T164118CEST-94254d2e73@91.233.84.75
DTSTAMP:20260421T144118Z
DESCRIPTION:Thüringer Bach Collegium
DTSTART:20200731T190000
DTEND:20200731T190000
GEO:+49.943155;+11.574541
LOCATION:Stadtkirche Heilig Dreifaltigkeit\, Kirchplatz 1\, 95444 Bayreuth\
 , Deutschland
SUMMARY:Soli Deo Gloria - J. S. Bachs Brandenburgisches Konzert Nr. 5
URL:https://www.youngartistsbayreuth.de/en/event/soli-deo-gloria-j-s-bachs-
 brandenburgisches-konzert-nr-31-07-2020-19-00.html
X-APPLE-STRUCTURED-LOCATION;VALUE=URI;X-ADDRESS="Kirchplatz 1, Bayreuth, 95
 444, Deutschland";X-APPLE-RADIUS=100;X-TITLE=Soli Deo Gloria - J. S. Bachs
  Brandenburgisches Konzert Nr. 5:GEO:49.9431552\,11.5745409
END:VEVENT
END:VCALENDAR
