BEGIN:VCALENDAR
VERSION:2.0
PRODID:-//91.233.84.75//NONSGML kigkonsult.se iCalcreator 2.24//
CALSCALE:GREGORIAN
METHOD:PUBLISH
X-WR-TIMEZONE:Europe/Berlin
BEGIN:VTIMEZONE
TZID:Europe/Berlin
X-LIC-LOCATION:Europe/Berlin
BEGIN:STANDARD
DTSTART:19701025T030000
TZOFFSETFROM:+0200
TZOFFSETTO:+0100
TZNAME:CET
END:STANDARD
BEGIN:DAYLIGHT
DTSTART:19700329T020000
TZOFFSETFROM:+0100
TZOFFSETTO:+0200
TZNAME:CEST
END:DAYLIGHT
END:VTIMEZONE
BEGIN:VEVENT
UID:20260421T150018CEST-5341964482@91.233.84.75
DTSTAMP:20260421T130018Z
DESCRIPTION:Die Capella Transylvanica aus Cluj-Napoca (Rumänien) präsentier
 t unter der Leitung von Cornel Groza Werke rumänischer Komponisten\, darun
 ter u.a. Augustin Bena\, Tudor Jarda\, Emil Simon und das berühmte Odi et 
 amo aus Catulli Carmina von Carl Orff.\nEin Konzert des 75. Festival junge
 r Künstler Bayreuth.
DTSTART:20250806T190000
DTEND:20250806T190000
GEO:+49.716784;+11.906717
LOCATION:Friedenskirche Heilig Dreifaltigkeit\, Kerschensteinerstraße 1\, 9
 2655 Grafenwöhr\, Deutschland
SUMMARY:„Sommerklänge.' Chormusik durch die Zeiten
URL:https://www.youngartistsbayreuth.de/de/veranstaltung/sommerkl%C3%A4nge-
 chormusik-durch-die-zeiten-06-08-2025-19-00.html
X-APPLE-STRUCTURED-LOCATION;VALUE=URI;X-ADDRESS="Kerschensteinerstraße 1, G
 rafenwöhr, 92655, Deutschland";X-APPLE-RADIUS=100;X-TITLE=„Sommerklänge." 
 Chormusik durch die Zeiten:GEO:49.71678407414998\,11.906717254578183
END:VEVENT
END:VCALENDAR
