BEGIN:VCALENDAR
VERSION:2.0
PRODID:-//91.233.84.75//NONSGML kigkonsult.se iCalcreator 2.24//
CALSCALE:GREGORIAN
METHOD:PUBLISH
X-WR-TIMEZONE:Europe/Berlin
BEGIN:VTIMEZONE
TZID:Europe/Berlin
X-LIC-LOCATION:Europe/Berlin
BEGIN:STANDARD
DTSTART:19701025T030000
TZOFFSETFROM:+0200
TZOFFSETTO:+0100
TZNAME:CET
END:STANDARD
BEGIN:DAYLIGHT
DTSTART:19700329T020000
TZOFFSETFROM:+0100
TZOFFSETTO:+0200
TZNAME:CEST
END:DAYLIGHT
END:VTIMEZONE
BEGIN:VEVENT
UID:20260421T164752CEST-13461457d6@91.233.84.75
DTSTAMP:20260421T144752Z
DESCRIPTION:Der Macedonia University Choir aus Thessaloniki unter der Leitu
 ng von Maria Emma Meligopoulou lädt zur abendlichen Chormusik mit Werken u
 .a. von Chrysostomos Wutsas\, Manos Hatzidakis\, Stefanos Vasileiadis sowi
 e traditionellen Chorwerken aus Makedonien und Thrakien.\nEin Konzert des 
 75. Festival junger Künstler Bayreuth.
DTSTART:20250806T190000
DTEND:20250806T190000
GEO:+49.871104;+11.890271
LOCATION:Stadtpfarrkirche Mariä Himmelfahrt\, Schmidstraße 23\, 95478 Kemna
 th\, Deutschland
SUMMARY:„Sonne.Klang & Leidenschaft“
URL:https://www.youngartistsbayreuth.de/en/event/sonne-klang-leidenschaft-0
 6-08-2025-19-00.html
X-APPLE-STRUCTURED-LOCATION;VALUE=URI;X-ADDRESS="Schmidstraße 23, Kemnath, 
 95478, Deutschland";X-APPLE-RADIUS=100;X-TITLE=„Sonne.Klang & Leidenschaft
 “:GEO:49.8711043\,11.8902706
END:VEVENT
END:VCALENDAR
