BEGIN:VCALENDAR
VERSION:2.0
PRODID:-//91.233.84.75//NONSGML kigkonsult.se iCalcreator 2.24//
CALSCALE:GREGORIAN
METHOD:PUBLISH
X-WR-TIMEZONE:Europe/Berlin
BEGIN:VTIMEZONE
TZID:Europe/Berlin
X-LIC-LOCATION:Europe/Berlin
BEGIN:STANDARD
DTSTART:19701025T030000
TZOFFSETFROM:+0200
TZOFFSETTO:+0100
TZNAME:CET
END:STANDARD
BEGIN:DAYLIGHT
DTSTART:19700329T020000
TZOFFSETFROM:+0100
TZOFFSETTO:+0200
TZNAME:CEST
END:DAYLIGHT
END:VTIMEZONE
BEGIN:VEVENT
UID:20260421T163932CEST-3182e76249@91.233.84.75
DTSTAMP:20260421T143932Z
DESCRIPTION:Musikalisch-akustische Erforschung der Klänge aus der Natur\nPh
 asen I. und II.\nLeitung: Sophia Schambeck\, Blockflöte und Marta Haladzhu
 n\, Sound Designerin\n \n“Vitality\, verve and precision.” – The American 
 Recorder Magazin\nFür die Blockflötistin Sophia Schambeck ist es essenziel
 l\, über die Musik eine Verbindung zu ihren Zuhörern aufzubauen. Immer auf
  der Suche nach neuen Wegen\, in Kontakt mit ihren Zuhörern zu treten\, ex
 perimentiert sie mit Konzertformaten\, Electronics und Improvisation. Sie 
 ist Mitgründerin der Konzertreihe „Aha! – Klimakonzerte“\, bei der alltags
 nahe Klimathemen mit Musik verbunden werden. Konzerte im In- und Ausland f
 ührte sie u.a. zum Festival Heidelberger Frühling\, den internationalen Hä
 ndelfestspielen Göttingen\, dem Festival d’Ambronay (FR)\, den Thüringer B
 achwochen\, sowie in Säle wie den Rachmaninow Saal in Moskau oder den Conc
 ertgebouw Amsterdam.\nGleichermaßen in zeitgenössischer wie alter Musik be
 wandert gewann Sophia u.a. den internationalen Blockflötenwettbewerb in Te
 l Aviv\, die „Open Recorder Days Amsterdam” und den 1. Preis sowie den Pub
 likumspreis des Kulturkreis Gasteig Musikpreis 2021. Im selben Jahr wurde 
 sie beim Deutschen Musikwettbewerb mit einem Stipendium ausgezeichnet und 
 in die Konzertförderung Deutscher Musikwettbewerb aufgenommen. Zudem war s
 ie Finalistin und Preisträgerin der internationalen „MOECK/ SRP Recorder s
 olo competition” in London. Mit ihrem Ensemble „DAS KOLORIT“ wurde sie zur
  Rheinsberger Hofkapelle gekürt und wird in der kommenden Saison in versch
 iedenen Konzerten in Schloss Rheinsberg zu hören sein. Auch für Interpreta
 tionen neuer Musik und Eigenkompositionen erhielt sie diverse Auszeichnung
 en\, darunter den Sonderpreis 'Zeitgenössische Musik' der Versicherungskam
 mer Kulturstiftung. Die Stadt München verlieh ihr 2021 den Leonhard und Id
 a Wolf-Gedächtnispreis.\nAktuell arbeitet Sophia eng mit Komponisten zusam
 men\, um ein zeitgenössisches Repertoire für mittelalterliche Doppelflöte 
 zu erschaffen und brachte Werke von Moritz Eggert und Wilma Pistorius zur 
 Uraufführung. Sie genießt es\, mit modernen und barocken Orchestern aufzut
 reten\; u.a. arbeitete sie mit den Rotterdamer Philharmonikern zusammen un
 d erschien als Solistin mit dem Orquesta de Córdoba (ESP)\, dem Luthers Ba
 ch Ensmble (NL) und den Residenz Solisten (D). Live-Mitschnitte wurden bei
  BR Klassik\, France Musique\, Deutschlandfunk\, NDR Kultur und im holländ
 ischen Radio npo4 übertragen.\nIm Alter von fünfzehn Jahren wurde Sophia J
 ungstudentin bei Markus Zahnhausen an der „Hochschule für Musik und Theate
 r München“. Mit Unterstützung des „Gerd Bucerius Stipendium“ der Deutschen
  Stiftung Musikleben studierte sie in Amsterdam bei Erik Bosgraaf und „his
 torische Aufführungspraxis“ in München. Derzeit schließt sie mit Unterstüt
 zung des Deutschlandstipendiums den Master Blockflöte künstlerisch bei Mau
 rice van Lieshout\, sowie den Masterstudiengang „Neue Musik“ bei Markus Be
 llheim an der Musikhochschule München ab. Meisterkurse bei Maurice Steger\
 , Dorothee Oberlinger\, Walter van Hauwe\, Paul Leenhouts und anderen ergä
 nzen ihre Studien.\nSo vielseitig wie in der Musik sind Sophias Interessen
  auch im Leben. Fasziniert von den Neurowissenschaften studiert sie Humanm
 edizin und wurde von der „Studienstiftung des deutschen Volkes“ gefördert.
  Seit 2018 ist sie Stipendiatin des Vereins “Yehudi Menuhin Live Music Now
  München e.V” und spielt Konzerte für Menschen\, die sonst keinen Zugang z
 u Musik hätten.
DTSTART:20230803T100000
DTEND:20230803T100000
GEO:+49.94286;+11.5876
LOCATION:DAS ZENTRUM\, Kultursalon\, Äußere Badstraße 7a\, 95448 Bayreuth\,
  Deutschland
SUMMARY:Sophias Werkstatt – Lost (in) Nature
URL:https://www.youngartistsbayreuth.de/en/event/sophias-werkstatt-lost-in-
 nature-03-08-2023-10-00.html
X-APPLE-STRUCTURED-LOCATION;VALUE=URI;X-ADDRESS="Äußere Badstraße 7a, Bayre
 uth, 95448, Deutschland";X-APPLE-RADIUS=100;X-TITLE=Sophias Werkstatt – Lo
 st (in) Nature:GEO:49.94286\,11.5876
END:VEVENT
END:VCALENDAR
