BEGIN:VCALENDAR
VERSION:2.0
PRODID:-//91.233.84.75//NONSGML kigkonsult.se iCalcreator 2.24//
CALSCALE:GREGORIAN
METHOD:PUBLISH
X-WR-TIMEZONE:Europe/Berlin
BEGIN:VTIMEZONE
TZID:Europe/Berlin
X-LIC-LOCATION:Europe/Berlin
BEGIN:STANDARD
DTSTART:19701025T030000
TZOFFSETFROM:+0200
TZOFFSETTO:+0100
TZNAME:CET
END:STANDARD
BEGIN:DAYLIGHT
DTSTART:19700329T020000
TZOFFSETFROM:+0100
TZOFFSETTO:+0200
TZNAME:CEST
END:DAYLIGHT
END:VTIMEZONE
BEGIN:VEVENT
UID:20260421T163932CEST-43476886c3@91.233.84.75
DTSTAMP:20260421T143932Z
DESCRIPTION:Musikalisch-akustische Erforschung der Klänge aus der Natur\nSo
 phia Schambeck\, BlockflöteMarta Haladzhun\, Sound DesignerinSalome Ryser\
 , Konzeption
DTSTART:20240812T180000
DTEND:20240812T180000
GEO:+49.942342;+11.574097
LOCATION:Jean Paul Art Space\, Friedrichstraße 5\, 95444 Bayreuth\, Deutsch
 land
SUMMARY:Sophias Werkstatt – Lost [in] Nature
URL:https://www.youngartistsbayreuth.de/en/event/sophias-werkstatt-lost-in-
 nature-12-08-2024-18-00.html
X-APPLE-STRUCTURED-LOCATION;VALUE=URI;X-ADDRESS="Friedrichstraße 5, Bayreut
 h, 95444, Deutschland";X-APPLE-RADIUS=100;X-TITLE=Sophias Werkstatt – Lost
  [in] Nature:GEO:49.9423418\,11.5740973
END:VEVENT
END:VCALENDAR
