BEGIN:VCALENDAR
VERSION:2.0
PRODID:-//91.233.84.75//NONSGML kigkonsult.se iCalcreator 2.24//
CALSCALE:GREGORIAN
METHOD:PUBLISH
X-WR-TIMEZONE:Europe/Berlin
BEGIN:VTIMEZONE
TZID:Europe/Berlin
X-LIC-LOCATION:Europe/Berlin
BEGIN:STANDARD
DTSTART:19701025T030000
TZOFFSETFROM:+0200
TZOFFSETTO:+0100
TZNAME:CET
END:STANDARD
BEGIN:DAYLIGHT
DTSTART:19700329T020000
TZOFFSETFROM:+0100
TZOFFSETTO:+0200
TZNAME:CEST
END:DAYLIGHT
END:VTIMEZONE
BEGIN:VEVENT
UID:20260421T163944CEST-5040faff46@91.233.84.75
DTSTAMP:20260421T143944Z
DESCRIPTION:Die Tuna der Technischen Universität Lissabon mit Fado\, Flamen
 co\, Klassik und Rock\nim Rahmen des 73. Festival junger Künstler Bayreuth
 .
DTSTART:20230813T170000
DTEND:20230813T170000
GEO:+49.72024;+11.05517
LOCATION:Kaiserpfalz\, Kapellenstraße 16\, 91301 Forchheim\, Deutschland
SUMMARY:Spirit of Portugal
URL:https://www.youngartistsbayreuth.de/en/event/spirit-of-portugal-13-08-2
 023-17-00.html
X-APPLE-STRUCTURED-LOCATION;VALUE=URI;X-ADDRESS="Kapellenstraße 16, Forchhe
 im, 91301, Deutschland";X-APPLE-RADIUS=100;X-TITLE=Spirit of Portugal:GEO:
 49.72024\,11.0551697
END:VEVENT
END:VCALENDAR
