BEGIN:VCALENDAR
VERSION:2.0
PRODID:-//91.233.84.75//NONSGML kigkonsult.se iCalcreator 2.24//
CALSCALE:GREGORIAN
METHOD:PUBLISH
X-WR-TIMEZONE:Europe/Berlin
BEGIN:VTIMEZONE
TZID:Europe/Berlin
X-LIC-LOCATION:Europe/Berlin
BEGIN:STANDARD
DTSTART:19701025T030000
TZOFFSETFROM:+0200
TZOFFSETTO:+0100
TZNAME:CET
END:STANDARD
BEGIN:DAYLIGHT
DTSTART:19700329T020000
TZOFFSETFROM:+0100
TZOFFSETTO:+0200
TZNAME:CEST
END:DAYLIGHT
END:VTIMEZONE
BEGIN:VEVENT
UID:20260421T162330CEST-3830ea0ac5@91.233.84.75
DTSTAMP:20260421T142330Z
DESCRIPTION:Open Air bei der Kulturscheune Cottenbach(bei Schlechtwetter Ve
 rsöhnungskirche Heinersreuth)\nDie Tuna der Technischen Universität Lissab
 on mit Fado\, Flamenco\, Klassik und Rock\nim Rahmen des 73. Festival jung
 er Künstler Bayreuth.
DTSTART:20230818T190000
DTEND:20230818T190000
GEO:+49.971017;+11.552454
LOCATION:Kulturscheune Cottenbach\, Cottenbach\, 95500 Heinersreuth\, Deuts
 chland
SUMMARY:Spirit of Portugal
URL:https://www.youngartistsbayreuth.de/de/veranstaltung/spirit-of-portugal
 -18-08-2023-19-00.html
X-APPLE-STRUCTURED-LOCATION;VALUE=URI;X-ADDRESS="Cottenbach, Heinersreuth, 
 95500, Deutschland";X-APPLE-RADIUS=100;X-TITLE=Spirit of Portugal:GEO:49.9
 7101727679339\,11.552453723242968
END:VEVENT
END:VCALENDAR
