BEGIN:VCALENDAR
VERSION:2.0
PRODID:-//91.233.84.75//NONSGML kigkonsult.se iCalcreator 2.24//
CALSCALE:GREGORIAN
METHOD:PUBLISH
X-WR-TIMEZONE:Europe/Berlin
BEGIN:VTIMEZONE
TZID:Europe/Berlin
X-LIC-LOCATION:Europe/Berlin
BEGIN:STANDARD
DTSTART:19701025T030000
TZOFFSETFROM:+0200
TZOFFSETTO:+0100
TZNAME:CET
END:STANDARD
BEGIN:DAYLIGHT
DTSTART:19700329T020000
TZOFFSETFROM:+0100
TZOFFSETTO:+0200
TZNAME:CEST
END:DAYLIGHT
END:VTIMEZONE
BEGIN:VEVENT
UID:20260421T164757CEST-4351ff4484@91.233.84.75
DTSTAMP:20260421T144757Z
DESCRIPTION:Ein Gesprächskonzert mit der hinreißenden Schlagzeugerin Cornel
 ia Monske im Rahmen des 72. Festival junger Künstler Bayreuth
DTSTART:20220815T200000
DTEND:20220815T200000
GEO:+50.001084;+11.853166
LOCATION:Kath. Pfarrkirche Maria Geburt\, Kirchberg 2\, 95686 Fichtelberg\,
  Deutschland
SUMMARY:„Stairway to heaven“
URL:https://www.youngartistsbayreuth.de/en/event/stairway-to-heaven-15-08-2
 022-20-00.html
X-APPLE-STRUCTURED-LOCATION;VALUE=URI;X-ADDRESS="Kirchberg 2, Fichtelberg, 
 95686, Deutschland";X-APPLE-RADIUS=100;X-TITLE=„Stairway to heaven“:GEO:50
 .0010844\,11.8531664
END:VEVENT
END:VCALENDAR
