BEGIN:VCALENDAR
VERSION:2.0
PRODID:-//91.233.84.75//NONSGML kigkonsult.se iCalcreator 2.24//
CALSCALE:GREGORIAN
METHOD:PUBLISH
X-WR-TIMEZONE:Europe/Berlin
BEGIN:VTIMEZONE
TZID:Europe/Berlin
X-LIC-LOCATION:Europe/Berlin
BEGIN:STANDARD
DTSTART:19701025T030000
TZOFFSETFROM:+0200
TZOFFSETTO:+0100
TZNAME:CET
END:STANDARD
BEGIN:DAYLIGHT
DTSTART:19700329T020000
TZOFFSETFROM:+0100
TZOFFSETTO:+0200
TZNAME:CEST
END:DAYLIGHT
END:VTIMEZONE
BEGIN:VEVENT
UID:20260421T164751CEST-35679192ec@91.233.84.75
DTSTAMP:20260421T144751Z
DESCRIPTION:Werke von I. Xenakis\, M. Ravel\, L. v. Beethoven\, O. Messiaen
  und J. S. Bach\nMusikalische Leitung: Christian Benning\nIm Rahmen des 72
 . Festival junger Künstler Bayreuth
DTSTART:20220809T190000
DTEND:20220809T190000
GEO:+49.946313;+11.601495
LOCATION:Seebühne in der Wilhelminenaue\, Äußere Badstraße 27\, 95448 Bayre
 uth\, Deutschland
SUMMARY:Star Gazing! Percussionkonzert
URL:https://www.youngartistsbayreuth.de/en/event/star-gazing-percussionkonz
 ert-09-08-2022-19-00.html
X-APPLE-STRUCTURED-LOCATION;VALUE=URI;X-ADDRESS="Äußere Badstraße 27, Bayre
 uth, 95448, Deutschland";X-APPLE-RADIUS=100;X-TITLE=Star Gazing! Percussio
 nkonzert:GEO:49.946313\,11.601495
END:VEVENT
END:VCALENDAR
