BEGIN:VCALENDAR
VERSION:2.0
PRODID:-//91.233.84.75//NONSGML kigkonsult.se iCalcreator 2.24//
CALSCALE:GREGORIAN
METHOD:PUBLISH
X-WR-TIMEZONE:Europe/Berlin
BEGIN:VTIMEZONE
TZID:Europe/Berlin
X-LIC-LOCATION:Europe/Berlin
BEGIN:STANDARD
DTSTART:19701025T030000
TZOFFSETFROM:+0200
TZOFFSETTO:+0100
TZNAME:CET
END:STANDARD
BEGIN:DAYLIGHT
DTSTART:19700329T020000
TZOFFSETFROM:+0100
TZOFFSETTO:+0200
TZNAME:CEST
END:DAYLIGHT
END:VTIMEZONE
BEGIN:VEVENT
UID:20260421T164041CEST-264813f364@91.233.84.75
DTSTAMP:20260421T144041Z
DESCRIPTION:Der Singer/Songwriter Linus Cuno im Rahmen des 71. Festival jun
 ger Künstler Bayreuth mit Cover Songs von Tina Turner\, Whitney Houston un
 d eigenen Titeln
DTSTART:20210814T190000
DTEND:20210814T190000
GEO:+49.42621;+12.480818
LOCATION:Thammer Haus\, Marktplatz 5\, 92559 Winklarn\, Deutschland
SUMMARY:Summer and Soul - zwischen Piano und Gesang
URL:https://www.youngartistsbayreuth.de/en/event/summer-and-soul-zwischen-p
 iano-und-gesang-14-08-2021-19-00.html
X-APPLE-STRUCTURED-LOCATION;VALUE=URI;X-ADDRESS="Marktplatz 5, Winklarn, 92
 559, Deutschland";X-APPLE-RADIUS=100;X-TITLE=Summer and Soul - zwischen Pi
 ano und Gesang:GEO:49.4262102\,12.480818
END:VEVENT
END:VCALENDAR
