BEGIN:VCALENDAR
VERSION:2.0
PRODID:-//91.233.84.75//NONSGML kigkonsult.se iCalcreator 2.24//
CALSCALE:GREGORIAN
METHOD:PUBLISH
X-WR-TIMEZONE:Europe/Berlin
BEGIN:VTIMEZONE
TZID:Europe/Berlin
X-LIC-LOCATION:Europe/Berlin
BEGIN:STANDARD
DTSTART:19701025T030000
TZOFFSETFROM:+0200
TZOFFSETTO:+0100
TZNAME:CET
END:STANDARD
BEGIN:DAYLIGHT
DTSTART:19700329T020000
TZOFFSETFROM:+0100
TZOFFSETTO:+0200
TZNAME:CEST
END:DAYLIGHT
END:VTIMEZONE
BEGIN:VEVENT
UID:20260421T162721CEST-6400da1418@91.233.84.75
DTSTAMP:20260421T142721Z
DESCRIPTION:Barockes und Klassisches\, Hip Hop und Rock\nMusikalische Leitu
 ng: Rudolf Haken\, Electric-Strings\, Hip Hop und Rap\nBei schlechtem Wett
 er:Klosterkirche
DTSTART:20220809T190000
DTEND:20220809T190000
GEO:+49.724665;+11.898909
LOCATION:Naturbühne Schönberg &#40\;Open Air&#41\;\, Am Schönberg\, 92655 G
 rafenwöhr\, Deutschland
SUMMARY:SuperSommerKonzert: Extravaganza
URL:https://www.youngartistsbayreuth.de/en/event/supersommerkonzert-extrava
 ganza-09-08-2022-19-00.html
X-APPLE-STRUCTURED-LOCATION;VALUE=URI;X-ADDRESS="Am Schönberg, Grafenwöhr, 
 92655, Deutschland";X-APPLE-RADIUS=100;X-TITLE="SuperSommerKonzert: Extrav
 aganza":GEO:49.724665\,11.898909
END:VEVENT
END:VCALENDAR
