BEGIN:VCALENDAR
VERSION:2.0
PRODID:-//91.233.84.75//NONSGML kigkonsult.se iCalcreator 2.24//
CALSCALE:GREGORIAN
METHOD:PUBLISH
X-WR-TIMEZONE:Europe/Berlin
BEGIN:VTIMEZONE
TZID:Europe/Berlin
X-LIC-LOCATION:Europe/Berlin
BEGIN:STANDARD
DTSTART:19701025T030000
TZOFFSETFROM:+0200
TZOFFSETTO:+0100
TZNAME:CET
END:STANDARD
BEGIN:DAYLIGHT
DTSTART:19700329T020000
TZOFFSETFROM:+0100
TZOFFSETTO:+0200
TZNAME:CEST
END:DAYLIGHT
END:VTIMEZONE
BEGIN:VEVENT
UID:20260421T145321CEST-9084e98961@91.233.84.75
DTSTAMP:20260421T125321Z
DESCRIPTION:Kleine musikalische Überraschungen auf Bayreuths Plätzen und St
 raßen.\nDas Festival junger Künstler Bayreuth sagt Danke für Bayreuths Gas
 tfreundschaft
DTSTART:20200804T170000
DTEND:20200804T180000
GEO:+49.945189;+11.573474
LOCATION:Stadtparkett\, Maximilianstraße 48\, 95444 Bayreuth\, Deutschland
SUMMARY:Surprise!
URL:https://www.youngartistsbayreuth.de/de/veranstaltung/surprise-04-08-202
 0-17-00.html
X-APPLE-STRUCTURED-LOCATION;VALUE=URI;X-ADDRESS="Maximilianstraße 48, Bayre
 uth, 95444, Deutschland";X-APPLE-RADIUS=100;X-TITLE=Surprise!:GEO:49.94518
 91\,11.5734741
END:VEVENT
END:VCALENDAR
