BEGIN:VCALENDAR
VERSION:2.0
PRODID:-//91.233.84.75//NONSGML kigkonsult.se iCalcreator 2.24//
CALSCALE:GREGORIAN
METHOD:PUBLISH
X-WR-TIMEZONE:Europe/Berlin
BEGIN:VTIMEZONE
TZID:Europe/Berlin
X-LIC-LOCATION:Europe/Berlin
BEGIN:STANDARD
DTSTART:19701025T030000
TZOFFSETFROM:+0200
TZOFFSETTO:+0100
TZNAME:CET
END:STANDARD
BEGIN:DAYLIGHT
DTSTART:19700329T020000
TZOFFSETFROM:+0100
TZOFFSETTO:+0200
TZNAME:CEST
END:DAYLIGHT
END:VTIMEZONE
BEGIN:VEVENT
UID:20260421T165120CEST-5059eb22a3@91.233.84.75
DTSTAMP:20260421T145120Z
DESCRIPTION:Die Veranstaltung wurde abgesagt!\n \nDas Festival junger Künst
 ler Bayreuth sagt Danke für alle Gastfreundschaft.\n \nDie aktuelle Locati
 on finden Sie hier auf unserer Webseite.
DTSTART:20210804T120000
DTEND:20210804T120000
GEO:+49.943853;+11.576313
LOCATION:Innenstadt & Parks\, Maximilianstraße\, 95444 Bayreuth\, Deutschla
 nd
SUMMARY:Surprise! Kleine musikalische Überraschungen auf Bayreuths Plätzen 
 und Straßen - ABGESAGT -
URL:https://www.youngartistsbayreuth.de/en/event/surprise-kleine-musikalisc
 he-%C3%BCberraschungen-auf-bayreuths-04-08-2021-12-00.html
X-APPLE-STRUCTURED-LOCATION;VALUE=URI;X-ADDRESS="Maximilianstraße, Bayreuth
 , 95444, Deutschland";X-APPLE-RADIUS=100;X-TITLE=Surprise! Kleine musikali
 sche Überraschungen auf Bayreuths Plätzen und Straßen - ABGESAGT -:GEO:49.
 943853\,11.576313
END:VEVENT
END:VCALENDAR
